BEGIN:VCALENDAR
VERSION:2.0
PRODID:-//The Alexander Centre - ECPv6.15.20//NONSGML v1.0//EN
CALSCALE:GREGORIAN
METHOD:PUBLISH
X-ORIGINAL-URL:https://thealex.org.uk
X-WR-CALDESC:Events for The Alexander Centre
REFRESH-INTERVAL;VALUE=DURATION:PT1H
X-Robots-Tag:noindex
X-PUBLISHED-TTL:PT1H
BEGIN:VTIMEZONE
TZID:Europe/London
BEGIN:DAYLIGHT
TZOFFSETFROM:+0000
TZOFFSETTO:+0100
TZNAME:BST
DTSTART:20250330T010000
END:DAYLIGHT
BEGIN:STANDARD
TZOFFSETFROM:+0100
TZOFFSETTO:+0000
TZNAME:GMT
DTSTART:20251026T010000
END:STANDARD
BEGIN:DAYLIGHT
TZOFFSETFROM:+0000
TZOFFSETTO:+0100
TZNAME:BST
DTSTART:20260329T010000
END:DAYLIGHT
BEGIN:STANDARD
TZOFFSETFROM:+0100
TZOFFSETTO:+0000
TZNAME:GMT
DTSTART:20261025T010000
END:STANDARD
BEGIN:DAYLIGHT
TZOFFSETFROM:+0000
TZOFFSETTO:+0100
TZNAME:BST
DTSTART:20270328T010000
END:DAYLIGHT
BEGIN:STANDARD
TZOFFSETFROM:+0100
TZOFFSETTO:+0000
TZNAME:GMT
DTSTART:20271031T010000
END:STANDARD
END:VTIMEZONE
BEGIN:VEVENT
DTSTART;TZID=Europe/London:20261203T190000
DTEND;TZID=Europe/London:20261203T210000
DTSTAMP:20260421T070040
CREATED:20260401T133813Z
LAST-MODIFIED:20260401T134558Z
UID:10000594-1796324400-1796331600@thealex.org.uk
SUMMARY:The Faversham Murder Club
DESCRIPTION:Brought to you by Dr Graham Birrell\, the man behind the hit ‘A Very Kentish Murder’ evenings\, this series of workshops is aimed at all true-crime lovers. \nEach week looks at a real-life historical murder with one central question – did the police find the right person? Using the original documents from the actual case files held at the National Archives\, club members will investigate some of the most infamous murders in British history. \nDeliberately limiting numbers to keep the group small\, each week will be highly interactive\, with all participants needing to use their detective and historical skills to examine the evidence together and decide – did they do it? \nWORKSHOP DATES \n12th November\n19th November\n26th November\n3rd December\n10th December\n17th December \n\n\n\nSPECIAL OFFER\nBook all 6 workshops and get 1 FREE \nTo receive the discount\, add all workshops to your basket at checkout. \nIf you encounter any issues\, please contact the team for support.
URL:https://thealex.org.uk/event/the-faversham-murder-club/2026-12-03/
LOCATION:The Alexander Centre\, 17 Preston Street\, Faversham\, Kent\, ME13 8NZ\, United Kingdom
CATEGORIES:Workshops,Workshops
ATTACH;FMTTYPE=image/png:https://thealex.org.uk/wp-content/uploads/2026/04/Faversham-Murder-Club-graphic-landscape.png
END:VEVENT
BEGIN:VEVENT
DTSTART;TZID=Europe/London:20261205T100000
DTEND;TZID=Europe/London:20261205T150000
DTSTAMP:20260421T070040
CREATED:20210927T105350Z
LAST-MODIFIED:20260130T105649Z
UID:10000543-1796464800-1796482800@thealex.org.uk
SUMMARY:Faversham Christmas Artisan Crafts and Gift Market
DESCRIPTION:Faversham Christmas Artisan Crafts and Gift Market. \nA selection of the best of Kent’s craft and gift products\, including jewellery\, homeware\, artwork\, photography\, candles\, soaps\, clothing\, beauty\, food and much\, much more! Free Entry. \nFrom 10.00 am to 3.00 pm. Organised by Eventissima Events. \nFree entry\, come along for a browse. \nOur pop-up tearoom will also be open\, so why not stop for some tea and cake? \n \nTo join as a trader please contact Eventissima Events: \nEmail: eventissima@outlook.com \nContact Tel 07582351364
URL:https://thealex.org.uk/event/artisan-craft-curios-gift-market-2021-11-06-2025-03-01-2025-11-15/2026-12-05/
LOCATION:The Alexander Centre\, 17 Preston Street\, Faversham\, Kent\, ME13 8NZ\, United Kingdom
CATEGORIES:Fairs & Markets
ATTACH;FMTTYPE=image/jpeg:https://thealex.org.uk/wp-content/uploads/2021/09/Screenshot_20220127-101538_Gallery75121-2.jpg
END:VEVENT
BEGIN:VEVENT
DTSTART;TZID=Europe/London:20261210T190000
DTEND;TZID=Europe/London:20261210T210000
DTSTAMP:20260421T070040
CREATED:20260401T133813Z
LAST-MODIFIED:20260401T134558Z
UID:10000595-1796929200-1796936400@thealex.org.uk
SUMMARY:The Faversham Murder Club
DESCRIPTION:Brought to you by Dr Graham Birrell\, the man behind the hit ‘A Very Kentish Murder’ evenings\, this series of workshops is aimed at all true-crime lovers. \nEach week looks at a real-life historical murder with one central question – did the police find the right person? Using the original documents from the actual case files held at the National Archives\, club members will investigate some of the most infamous murders in British history. \nDeliberately limiting numbers to keep the group small\, each week will be highly interactive\, with all participants needing to use their detective and historical skills to examine the evidence together and decide – did they do it? \nWORKSHOP DATES \n12th November\n19th November\n26th November\n3rd December\n10th December\n17th December \n\n\n\nSPECIAL OFFER\nBook all 6 workshops and get 1 FREE \nTo receive the discount\, add all workshops to your basket at checkout. \nIf you encounter any issues\, please contact the team for support.
URL:https://thealex.org.uk/event/the-faversham-murder-club/2026-12-10/
LOCATION:The Alexander Centre\, 17 Preston Street\, Faversham\, Kent\, ME13 8NZ\, United Kingdom
CATEGORIES:Workshops,Workshops
ATTACH;FMTTYPE=image/png:https://thealex.org.uk/wp-content/uploads/2026/04/Faversham-Murder-Club-graphic-landscape.png
END:VEVENT
BEGIN:VEVENT
DTSTART;TZID=Europe/London:20261211T100000
DTEND;TZID=Europe/London:20261211T150000
DTSTAMP:20260421T070040
CREATED:20210927T105350Z
LAST-MODIFIED:20260130T105649Z
UID:10000544-1796983200-1797001200@thealex.org.uk
SUMMARY:Faversham Christmas Artisan Crafts and Gift Market
DESCRIPTION:Faversham Christmas Artisan Crafts and Gift Market. \nA selection of the best of Kent’s craft and gift products\, including jewellery\, homeware\, artwork\, photography\, candles\, soaps\, clothing\, beauty\, food and much\, much more! Free Entry. \nFrom 10.00 am to 3.00 pm. Organised by Eventissima Events. \nFree entry\, come along for a browse. \nOur pop-up tearoom will also be open\, so why not stop for some tea and cake? \n \nTo join as a trader please contact Eventissima Events: \nEmail: eventissima@outlook.com \nContact Tel 07582351364
URL:https://thealex.org.uk/event/artisan-craft-curios-gift-market-2021-11-06-2025-03-01-2025-11-15/2026-12-11/
LOCATION:The Alexander Centre\, 17 Preston Street\, Faversham\, Kent\, ME13 8NZ\, United Kingdom
CATEGORIES:Fairs & Markets
ATTACH;FMTTYPE=image/jpeg:https://thealex.org.uk/wp-content/uploads/2021/09/Screenshot_20220127-101538_Gallery75121-2.jpg
END:VEVENT
BEGIN:VEVENT
DTSTART;TZID=Europe/London:20261212T100000
DTEND;TZID=Europe/London:20261212T150000
DTSTAMP:20260421T070040
CREATED:20210927T105350Z
LAST-MODIFIED:20260130T105649Z
UID:10000545-1797069600-1797087600@thealex.org.uk
SUMMARY:Faversham Christmas Artisan Crafts and Gift Market
DESCRIPTION:Faversham Christmas Artisan Crafts and Gift Market. \nA selection of the best of Kent’s craft and gift products\, including jewellery\, homeware\, artwork\, photography\, candles\, soaps\, clothing\, beauty\, food and much\, much more! Free Entry. \nFrom 10.00 am to 3.00 pm. Organised by Eventissima Events. \nFree entry\, come along for a browse. \nOur pop-up tearoom will also be open\, so why not stop for some tea and cake? \n \nTo join as a trader please contact Eventissima Events: \nEmail: eventissima@outlook.com \nContact Tel 07582351364
URL:https://thealex.org.uk/event/artisan-craft-curios-gift-market-2021-11-06-2025-03-01-2025-11-15/2026-12-12/
LOCATION:The Alexander Centre\, 17 Preston Street\, Faversham\, Kent\, ME13 8NZ\, United Kingdom
CATEGORIES:Fairs & Markets
ATTACH;FMTTYPE=image/jpeg:https://thealex.org.uk/wp-content/uploads/2021/09/Screenshot_20220127-101538_Gallery75121-2.jpg
END:VEVENT
BEGIN:VEVENT
DTSTART;TZID=Europe/London:20261213T100000
DTEND;TZID=Europe/London:20261213T150000
DTSTAMP:20260421T070040
CREATED:20210927T105350Z
LAST-MODIFIED:20260130T105649Z
UID:10000546-1797156000-1797174000@thealex.org.uk
SUMMARY:Faversham Christmas Artisan Crafts and Gift Market
DESCRIPTION:Faversham Christmas Artisan Crafts and Gift Market. \nA selection of the best of Kent’s craft and gift products\, including jewellery\, homeware\, artwork\, photography\, candles\, soaps\, clothing\, beauty\, food and much\, much more! Free Entry. \nFrom 10.00 am to 3.00 pm. Organised by Eventissima Events. \nFree entry\, come along for a browse. \nOur pop-up tearoom will also be open\, so why not stop for some tea and cake? \n \nTo join as a trader please contact Eventissima Events: \nEmail: eventissima@outlook.com \nContact Tel 07582351364
URL:https://thealex.org.uk/event/artisan-craft-curios-gift-market-2021-11-06-2025-03-01-2025-11-15/2026-12-13/
LOCATION:The Alexander Centre\, 17 Preston Street\, Faversham\, Kent\, ME13 8NZ\, United Kingdom
CATEGORIES:Fairs & Markets
ATTACH;FMTTYPE=image/jpeg:https://thealex.org.uk/wp-content/uploads/2021/09/Screenshot_20220127-101538_Gallery75121-2.jpg
END:VEVENT
BEGIN:VEVENT
DTSTART;TZID=Europe/London:20261213T183000
DTEND;TZID=Europe/London:20261213T183000
DTSTAMP:20260421T070040
CREATED:20220124T114126Z
LAST-MODIFIED:20260409T151915Z
UID:10000606-1797186600-1797186600@thealex.org.uk
SUMMARY:Comedy Lock-In
DESCRIPTION:Faversham‘s monthly night of stand-up comedy from the best new and up-and-coming acts on the UK comedy circuit comes to The Alex on the second Sunday of each month. \nDoors 6.00pm \nDonations welcome – pay what you can! \n 
URL:https://thealex.org.uk/event/comedylockin/2026-12-13/
LOCATION:The Alexander Centre\, 17 Preston Street\, Faversham\, Kent\, ME13 8NZ\, United Kingdom
CATEGORIES:Comedy
ATTACH;FMTTYPE=image/png:https://thealex.org.uk/wp-content/uploads/2022/01/Website-featured-images-Sold-Out-banners-2025-04-07T085244.820-2.png
END:VEVENT
BEGIN:VEVENT
DTSTART;TZID=Europe/London:20261215T193000
DTEND;TZID=Europe/London:20261215T193000
DTSTAMP:20260421T070040
CREATED:20260409T164352Z
LAST-MODIFIED:20260416T133426Z
UID:10000607-1797363000-1797363000@thealex.org.uk
SUMMARY:A Christmas Carol
DESCRIPTION:The Book of Darkness and Light return to Faversham following the success of their previous shows “Haunted” and “Nightmares”. Don’t miss another atmospheric evening of gripping\, spine-tingling theatre. \nAs our main hall has been damaged by fire and\, this event will take place at The Faversham Assembly Rooms\, Preston Street\, Faversham\, Kent\, ME13 8PG. \n\nThe Book of Darkness & Light\nPresents\nA Christmas Carol\nby Charles Dickens\nadapted by Adam Z. Robinson \nThe Book of Darkness & Light Theatre Company present their ghostly adaption of this most beloved festive classic. Join Ebenezer Scrooge on a supernatural journey into the past\, present and yet-to-come. \nThe chilly atmosphere of Victorian London is brought to life and the spirits of Christmas return from the dead – all through the spellbinding art of storytelling in this thrilling solo show. \nAdapted and performed by Adam Z. Robinson in his inimitable style\, this production of the well-loved tale teases out the gothic aspects\, presenting Dickens’ remarkable story as you’ve never seen it before.
URL:https://thealex.org.uk/event/a-christmas-carol/
LOCATION:The Alexander Centre\, 17 Preston Street\, Faversham\, Kent\, ME13 8NZ\, United Kingdom
CATEGORIES:Theatre
ATTACH;FMTTYPE=image/jpeg:https://thealex.org.uk/wp-content/uploads/2026/04/XmasCarolPic1468-x-852-no-text-scaled.jpg
END:VEVENT
BEGIN:VEVENT
DTSTART;TZID=Europe/London:20261217T190000
DTEND;TZID=Europe/London:20261217T210000
DTSTAMP:20260421T070040
CREATED:20260401T133813Z
LAST-MODIFIED:20260401T134558Z
UID:10000596-1797534000-1797541200@thealex.org.uk
SUMMARY:The Faversham Murder Club
DESCRIPTION:Brought to you by Dr Graham Birrell\, the man behind the hit ‘A Very Kentish Murder’ evenings\, this series of workshops is aimed at all true-crime lovers. \nEach week looks at a real-life historical murder with one central question – did the police find the right person? Using the original documents from the actual case files held at the National Archives\, club members will investigate some of the most infamous murders in British history. \nDeliberately limiting numbers to keep the group small\, each week will be highly interactive\, with all participants needing to use their detective and historical skills to examine the evidence together and decide – did they do it? \nWORKSHOP DATES \n12th November\n19th November\n26th November\n3rd December\n10th December\n17th December \n\n\n\nSPECIAL OFFER\nBook all 6 workshops and get 1 FREE \nTo receive the discount\, add all workshops to your basket at checkout. \nIf you encounter any issues\, please contact the team for support.
URL:https://thealex.org.uk/event/the-faversham-murder-club/2026-12-17/
LOCATION:The Alexander Centre\, 17 Preston Street\, Faversham\, Kent\, ME13 8NZ\, United Kingdom
CATEGORIES:Workshops,Workshops
ATTACH;FMTTYPE=image/png:https://thealex.org.uk/wp-content/uploads/2026/04/Faversham-Murder-Club-graphic-landscape.png
END:VEVENT
BEGIN:VEVENT
DTSTART;TZID=Europe/London:20261219T100000
DTEND;TZID=Europe/London:20261219T150000
DTSTAMP:20260421T070040
CREATED:20251126T154805Z
LAST-MODIFIED:20260130T102743Z
UID:10000484-1797674400-1797692400@thealex.org.uk
SUMMARY:Folk & Bespoke
DESCRIPTION:Folk & Bespoke Market\nSupport independent makers and discover unique\, handcrafted goods you won’t find on the high street. Every item tells a story\, and every maker has a passion. FREE ENTRY. \nA curated selection of artisan stalls featuring:🕯 Handmade gifts & home décor🎨 Art\, ceramics & textiles🍯 Local produce & bakes💍 Jewellery\, skincare & more \nCelebrate creativity\, craftsmanship\, and community — and take home something truly handmade! \nFollow Folk & Bespoke: Instagram | Facebook | WebsiteShare your experience with #folkandbespoke \n\nFor Stallholders\nAre you a skilled artist\, artisan\, or creative looking for regular events? Folk & Bespoke offers affordable opportunities to showcase your work\, build your clientele\, and grow your brand. \nGet in touch:www.folkandbespoke.com | https://linktr.ee/folkandbespoke | https://www.folkandbespoke.com/shop-signup/
URL:https://thealex.org.uk/event/folk-bespoke/2026-12-19/
LOCATION:The Alexander Centre\, 17 Preston Street\, Faversham\, Kent\, ME13 8NZ\, United Kingdom
CATEGORIES:Fairs & Markets
ATTACH;FMTTYPE=image/jpeg:https://thealex.org.uk/wp-content/uploads/2025/11/Website-featured-images-Sold-Out-banners-4-1.jpg
END:VEVENT
BEGIN:VEVENT
DTSTART;TZID=Europe/London:20261219T193000
DTEND;TZID=Europe/London:20261219T193000
DTSTAMP:20260421T070040
CREATED:20251128T105102Z
LAST-MODIFIED:20260309T102320Z
UID:10000490-1797708600-1797708600@thealex.org.uk
SUMMARY:A Very Jolly Jelly Christmas Party with Marylebone Jelly and Special Guests
DESCRIPTION:Watch This Space – We Will Rock Yule! \nOur annual Jolly Jelly Celebration is back to kick off the festive season in style at The Alexander Centre on Saturday 19th December 2026. \nTickets go live on 1st March — and trust us\, they won’t be around for long! Our last show at the Alex completely sold out\, so be ready… these tickets will fly!
URL:https://thealex.org.uk/event/a-very-jolly-jelly-christmas-party-with-marylebone-jelly-and-special-guests/
LOCATION:The Alexander Centre\, 17 Preston Street\, Faversham\, Kent\, ME13 8NZ\, United Kingdom
CATEGORIES:Music
ATTACH;FMTTYPE=image/png:https://thealex.org.uk/wp-content/uploads/2025/11/Website-featured-images-Sold-Out-banners-2025-11-27T212928.264.png
END:VEVENT
BEGIN:VEVENT
DTSTART;TZID=Europe/London:20261220T100000
DTEND;TZID=Europe/London:20261220T150000
DTSTAMP:20260421T070040
CREATED:20251126T154805Z
LAST-MODIFIED:20260130T102743Z
UID:10000485-1797760800-1797778800@thealex.org.uk
SUMMARY:Folk & Bespoke
DESCRIPTION:Folk & Bespoke Market\nSupport independent makers and discover unique\, handcrafted goods you won’t find on the high street. Every item tells a story\, and every maker has a passion. FREE ENTRY. \nA curated selection of artisan stalls featuring:🕯 Handmade gifts & home décor🎨 Art\, ceramics & textiles🍯 Local produce & bakes💍 Jewellery\, skincare & more \nCelebrate creativity\, craftsmanship\, and community — and take home something truly handmade! \nFollow Folk & Bespoke: Instagram | Facebook | WebsiteShare your experience with #folkandbespoke \n\nFor Stallholders\nAre you a skilled artist\, artisan\, or creative looking for regular events? Folk & Bespoke offers affordable opportunities to showcase your work\, build your clientele\, and grow your brand. \nGet in touch:www.folkandbespoke.com | https://linktr.ee/folkandbespoke | https://www.folkandbespoke.com/shop-signup/
URL:https://thealex.org.uk/event/folk-bespoke/2026-12-20/
LOCATION:The Alexander Centre\, 17 Preston Street\, Faversham\, Kent\, ME13 8NZ\, United Kingdom
CATEGORIES:Fairs & Markets
ATTACH;FMTTYPE=image/jpeg:https://thealex.org.uk/wp-content/uploads/2025/11/Website-featured-images-Sold-Out-banners-4-1.jpg
END:VEVENT
END:VCALENDAR