BEGIN:VCALENDAR
VERSION:2.0
PRODID:-//The Alexander Centre - ECPv6.15.20//NONSGML v1.0//EN
CALSCALE:GREGORIAN
METHOD:PUBLISH
X-ORIGINAL-URL:https://thealex.org.uk
X-WR-CALDESC:Events for The Alexander Centre
REFRESH-INTERVAL;VALUE=DURATION:PT1H
X-Robots-Tag:noindex
X-PUBLISHED-TTL:PT1H
BEGIN:VTIMEZONE
TZID:Europe/London
BEGIN:DAYLIGHT
TZOFFSETFROM:+0000
TZOFFSETTO:+0100
TZNAME:BST
DTSTART:20250330T010000
END:DAYLIGHT
BEGIN:STANDARD
TZOFFSETFROM:+0100
TZOFFSETTO:+0000
TZNAME:GMT
DTSTART:20251026T010000
END:STANDARD
BEGIN:DAYLIGHT
TZOFFSETFROM:+0000
TZOFFSETTO:+0100
TZNAME:BST
DTSTART:20260329T010000
END:DAYLIGHT
BEGIN:STANDARD
TZOFFSETFROM:+0100
TZOFFSETTO:+0000
TZNAME:GMT
DTSTART:20261025T010000
END:STANDARD
BEGIN:DAYLIGHT
TZOFFSETFROM:+0000
TZOFFSETTO:+0100
TZNAME:BST
DTSTART:20270328T010000
END:DAYLIGHT
BEGIN:STANDARD
TZOFFSETFROM:+0100
TZOFFSETTO:+0000
TZNAME:GMT
DTSTART:20271031T010000
END:STANDARD
END:VTIMEZONE
BEGIN:VEVENT
DTSTART;TZID=Europe/London:20261003T100000
DTEND;TZID=Europe/London:20261003T150000
DTSTAMP:20260421T033745
CREATED:20210927T105350Z
LAST-MODIFIED:20260130T104630Z
UID:10000019-1791021600-1791039600@thealex.org.uk
SUMMARY:Faversham Artisan Crafts and Gift Market
DESCRIPTION:Faversham Artisan Crafts and Gift Market. \nA selection of the best of Kent’s craft and gift products\, including jewellery\, homeware\, artwork\, photography\, candles\, soaps\, clothing\, beauty\, food and much\, much more! Free Entry. \nFrom 10.00 am to 3.00 pm. Organised by Eventissima Events. \nFree entry\, come along for a browse. \nOur pop-up tearoom will also be open\, so why not stop for some tea and cake? \n \nTo join as a trader please contact Eventissima Events: \nEmail: eventissima@outlook.com \nContact Tel 07582351364
URL:https://thealex.org.uk/event/artisan-craft-curios-gift-market-2021-11-06-2025-03-01/2026-10-03/
LOCATION:The Alexander Centre\, 17 Preston Street\, Faversham\, Kent\, ME13 8NZ\, United Kingdom
CATEGORIES:Fairs & Markets
ATTACH;FMTTYPE=image/jpeg:https://thealex.org.uk/wp-content/uploads/2021/09/Screenshot_20220127-101538_Gallery75121-2.jpg
END:VEVENT
BEGIN:VEVENT
DTSTART;TZID=Europe/London:20261004T193000
DTEND;TZID=Europe/London:20261004T193000
DTSTAMP:20260421T033745
CREATED:20251022T125107Z
LAST-MODIFIED:20251023T134528Z
UID:10000448-1791142200-1791142200@thealex.org.uk
SUMMARY:The Paul Simon Story
DESCRIPTION:Shades of Simon\, the UK’s most authentic sounding Paul Simon tribute band\, present their highly acclaimed 2 hour theatre show in tribute to Paul Simon as one of the best songwriters and performers of his generation.  With an engaging narration\, exceptional musicianship and authentic renditions of the best of his songs from Simon & Garfunkel through to Graceland\, this is a show not to be missed… \n \nTAC is pleased to host this event at our venue; however\, all event planning and coordination is being managed by an external organiser.
URL:https://thealex.org.uk/event/the-paul-simon-story/
LOCATION:The Alexander Centre\, 17 Preston Street\, Faversham\, Kent\, ME13 8NZ\, United Kingdom
CATEGORIES:Music
ATTACH;FMTTYPE=image/jpeg:https://thealex.org.uk/wp-content/uploads/2025/10/arches.jpg
END:VEVENT
BEGIN:VEVENT
DTSTART;TZID=Europe/London:20261007T193000
DTEND;TZID=Europe/London:20261007T193000
DTSTAMP:20260421T033745
CREATED:20260413T140754Z
LAST-MODIFIED:20260416T133502Z
UID:10000613-1791401400-1791401400@thealex.org.uk
SUMMARY:Deepest Fears
DESCRIPTION:The Book of Darkness and Light return to Faversham following the success of their previous shows “Haunted” and “Nightmares”. Don’t miss another atmospheric evening of gripping\, spine-tingling theatre. \nAs our main hall has been damaged by fire and\, this event will take place at The Faversham Assembly Rooms\, Preston Street\, Faversham\, Kent\, ME13 8PG. \n\nThe Book of Darkness & Light\nPresents DEEPEST FEARS\nGhost Stories\nadapted and performed by Adam Z. Robinson \nHorrifying spectres\, restless souls and evil secrets that refuse to stay buried are all brought to life in this spine-chilling show. Join the mysterious Storyteller for two blood-curdling ghost stories\, full of chills and thrills. An unmissable evening by one of the country’s most captivating ghost story performers — dare you face your deepest fears? \nIncludes the classic tales of terror ‘The Room in the Tower’ by E.F. Benson and ‘The Captain of the Polestar’ by Arthur Conan Doyle. \nThe Book of Darkness & Light’s previous work includes a number of original plays\, including SHIVERS (“A must-see production” – Northern Soul) and UPON THE STAIR (“Everyone needs to see this show.” – Reviews Hub). Their production of A CHRISTMAS CAROL (“A hauntingly wonderful retelling of a classic tale” – Our Theatre Voice) has been produced both nationally and internationally ad is coming to Faversham on Tuesday 15 December. Tickets on sale now.
URL:https://thealex.org.uk/event/deepest-fears/
LOCATION:The Alexander Centre\, 17 Preston Street\, Faversham\, Kent\, ME13 8NZ\, United Kingdom
CATEGORIES:Theatre
ATTACH;FMTTYPE=image/jpeg:https://thealex.org.uk/wp-content/uploads/2026/04/DEEPEEST-3x2-2-scaled.jpg
END:VEVENT
BEGIN:VEVENT
DTSTART;TZID=Europe/London:20261009T193000
DTEND;TZID=Europe/London:20261009T193000
DTSTAMP:20260421T033745
CREATED:20250909T111604Z
LAST-MODIFIED:20260324T082318Z
UID:10000421-1791574200-1791574200@thealex.org.uk
SUMMARY:John Kearns: Tilting at Windmills
DESCRIPTION:Tilting at Windmills is the brand-new stand-up show from Taskmaster alumni and double Edinburgh Comedy Award Winner\, John Kearns. \nA fragmented\, digressing portrayal of a 38-year-old man’s life\, alluding to books he hasn’t read\, touching on the modern condition. Plus VAT! More allusive and bleak as ever\, it is unreal the comedian you become. And for who? Decent craic with the right crowd. A show for those who have read about but not committed to the Guinness Nitrosurge. \nSeen bewildered on Taskmaster (Channel 4)\, terrified on Live at the Apollo (BBC)\, getting through Never Mind the Buzzcocks (Sky)\, and implicating others on his Sky stand-up special The Varnishing Days.  More comfortable on pods but comes alive on stage\, for your pleasure! \nDirected by Olivier winner\, Jon Brittain. \n★★★★★ \nThe Guardian \n“most will surely be won over…with the delightful\, poetic flourish that defines all his work… perfectly structured with overlapping themes and surprising callbacks… It’s all rather wonderful” \nChortle ★★★★★ \n“about as funny as anything this decade” \nThe Times ★★★★
URL:https://thealex.org.uk/event/john-kearns-tilting-at-windmills/
LOCATION:The Alexander Centre\, 17 Preston Street\, Faversham\, Kent\, ME13 8NZ\, United Kingdom
CATEGORIES:Comedy
ATTACH;FMTTYPE=image/jpeg:https://thealex.org.uk/wp-content/uploads/2025/09/Website-featured-images-Sold-Out-banners.jpg
END:VEVENT
BEGIN:VEVENT
DTSTART;TZID=Europe/London:20261010T100000
DTEND;TZID=Europe/London:20261010T150000
DTSTAMP:20260421T033745
CREATED:20251126T154805Z
LAST-MODIFIED:20260130T102743Z
UID:10000483-1791626400-1791644400@thealex.org.uk
SUMMARY:Folk & Bespoke
DESCRIPTION:Folk & Bespoke Market\nSupport independent makers and discover unique\, handcrafted goods you won’t find on the high street. Every item tells a story\, and every maker has a passion. FREE ENTRY. \nA curated selection of artisan stalls featuring:🕯 Handmade gifts & home décor🎨 Art\, ceramics & textiles🍯 Local produce & bakes💍 Jewellery\, skincare & more \nCelebrate creativity\, craftsmanship\, and community — and take home something truly handmade! \nFollow Folk & Bespoke: Instagram | Facebook | WebsiteShare your experience with #folkandbespoke \n\nFor Stallholders\nAre you a skilled artist\, artisan\, or creative looking for regular events? Folk & Bespoke offers affordable opportunities to showcase your work\, build your clientele\, and grow your brand. \nGet in touch:www.folkandbespoke.com | https://linktr.ee/folkandbespoke | https://www.folkandbespoke.com/shop-signup/
URL:https://thealex.org.uk/event/folk-bespoke/2026-10-10/
LOCATION:The Alexander Centre\, 17 Preston Street\, Faversham\, Kent\, ME13 8NZ\, United Kingdom
CATEGORIES:Fairs & Markets
ATTACH;FMTTYPE=image/jpeg:https://thealex.org.uk/wp-content/uploads/2025/11/Website-featured-images-Sold-Out-banners-4-1.jpg
END:VEVENT
BEGIN:VEVENT
DTSTART;TZID=Europe/London:20261010T200000
DTEND;TZID=Europe/London:20261010T200000
DTSTAMP:20260421T033745
CREATED:20251128T150334Z
LAST-MODIFIED:20251128T151611Z
UID:10000491-1791662400-1791662400@thealex.org.uk
SUMMARY:Michael Spicer – Hope All’s Well
DESCRIPTION:Michael Spicer – Hope All’s Well \nMichael Spicer\, the online sensation who brought you the award-winning viral hit The Room Next Door\, brings another hilarious and brilliantly entertaining satirical stage show packed with sketches\, short films and stories about why we’re witnessing such a gigantic political and global shitshow\, featuring characters from his BBC Radio 4 show ‘No Room’ as well as some old friends too. \n‘huge comedy talent’ Radio Times\n**** The Guardian\n**** Daily Mail
URL:https://thealex.org.uk/event/micheal-spicer-hope-alls-well/
LOCATION:The Alexander Centre\, 17 Preston Street\, Faversham\, Kent\, ME13 8NZ\, United Kingdom
CATEGORIES:Comedy
ATTACH;FMTTYPE=image/png:https://thealex.org.uk/wp-content/uploads/2025/11/720x405.png
END:VEVENT
BEGIN:VEVENT
DTSTART;TZID=Europe/London:20261011T183000
DTEND;TZID=Europe/London:20261011T183000
DTSTAMP:20260421T033745
CREATED:20220124T114126Z
LAST-MODIFIED:20260409T151915Z
UID:10000604-1791743400-1791743400@thealex.org.uk
SUMMARY:Comedy Lock-In
DESCRIPTION:Faversham‘s monthly night of stand-up comedy from the best new and up-and-coming acts on the UK comedy circuit comes to The Alex on the second Sunday of each month. \nDoors 6.00pm \nDonations welcome – pay what you can! \n 
URL:https://thealex.org.uk/event/comedylockin/2026-10-11/
LOCATION:The Alexander Centre\, 17 Preston Street\, Faversham\, Kent\, ME13 8NZ\, United Kingdom
CATEGORIES:Comedy
ATTACH;FMTTYPE=image/png:https://thealex.org.uk/wp-content/uploads/2022/01/Website-featured-images-Sold-Out-banners-2025-04-07T085244.820-2.png
END:VEVENT
BEGIN:VEVENT
DTSTART;TZID=Europe/London:20261014T193000
DTEND;TZID=Europe/London:20261014T193000
DTSTAMP:20260421T033745
CREATED:20250919T132917Z
LAST-MODIFIED:20250923T110521Z
UID:10000424-1792006200-1792006200@thealex.org.uk
SUMMARY:CELYA AB: We Must Stop Meeting Like This
DESCRIPTION:Have you ever forensically over-thought your life choices? Are they all somehow connected to a passing comment your Spanish teacher made when you were 15? Has it impacted everything from your love life to your career? \nFollowing sold-out shows across the UK\, the Edinburgh Fringe Festival and Soho Theatre\, Celya AB (“One of the most gifted joke writers of her age” – Chortle) is back with a new show with her brand of “exceptional\, not to mention impressively original” (British Comedy Guide) jokes and sharp observations. \nThis is a show about breaking free from shame\, and what ensues when you do. \nAs seen on Live At The Apollo\, the Off Menu podcast and Comedy Central Live. \n‘A superb contriver of pithy\, memorable punchlines’ ★★★★ Scotsman \n‘She has claimed her crown and her mastery over the stand up art form’ ★★★★★ Pepper & Salt \n‘Her quips are slick\, her one liners razor sharp\, and her caustic wit and pithy anecdotes dazzle the mind’ ★★★★ Entertainment Now \n(There will be a support act before the interval)
URL:https://thealex.org.uk/event/celya-ab-we-must-stop-meeting-like-this/
LOCATION:The Alexander Centre\, 17 Preston Street\, Faversham\, Kent\, ME13 8NZ\, United Kingdom
CATEGORIES:Comedy
ATTACH;FMTTYPE=image/jpeg:https://thealex.org.uk/wp-content/uploads/2025/09/Celya-Portrait-scaled.jpg
END:VEVENT
BEGIN:VEVENT
DTSTART;TZID=Europe/London:20261017T100000
DTEND;TZID=Europe/London:20261017T150000
DTSTAMP:20260421T033745
CREATED:20210927T105350Z
LAST-MODIFIED:20260130T104630Z
UID:10000538-1792231200-1792249200@thealex.org.uk
SUMMARY:Faversham Artisan Crafts and Gift Market
DESCRIPTION:Faversham Artisan Crafts and Gift Market. \nA selection of the best of Kent’s craft and gift products\, including jewellery\, homeware\, artwork\, photography\, candles\, soaps\, clothing\, beauty\, food and much\, much more! Free Entry. \nFrom 10.00 am to 3.00 pm. Organised by Eventissima Events. \nFree entry\, come along for a browse. \nOur pop-up tearoom will also be open\, so why not stop for some tea and cake? \n \nTo join as a trader please contact Eventissima Events: \nEmail: eventissima@outlook.com \nContact Tel 07582351364
URL:https://thealex.org.uk/event/artisan-craft-curios-gift-market-2021-11-06-2025-03-01/2026-10-17/
LOCATION:The Alexander Centre\, 17 Preston Street\, Faversham\, Kent\, ME13 8NZ\, United Kingdom
CATEGORIES:Fairs & Markets
ATTACH;FMTTYPE=image/jpeg:https://thealex.org.uk/wp-content/uploads/2021/09/Screenshot_20220127-101538_Gallery75121-2.jpg
END:VEVENT
BEGIN:VEVENT
DTSTART;TZID=Europe/London:20261024T100000
DTEND;TZID=Europe/London:20261024T150000
DTSTAMP:20260421T033745
CREATED:20210927T105350Z
LAST-MODIFIED:20260130T104630Z
UID:10000020-1792836000-1792854000@thealex.org.uk
SUMMARY:Faversham Artisan Crafts and Gift Market
DESCRIPTION:Faversham Artisan Crafts and Gift Market. \nA selection of the best of Kent’s craft and gift products\, including jewellery\, homeware\, artwork\, photography\, candles\, soaps\, clothing\, beauty\, food and much\, much more! Free Entry. \nFrom 10.00 am to 3.00 pm. Organised by Eventissima Events. \nFree entry\, come along for a browse. \nOur pop-up tearoom will also be open\, so why not stop for some tea and cake? \n \nTo join as a trader please contact Eventissima Events: \nEmail: eventissima@outlook.com \nContact Tel 07582351364
URL:https://thealex.org.uk/event/artisan-craft-curios-gift-market-2021-11-06-2025-03-01/2026-10-24/
LOCATION:The Alexander Centre\, 17 Preston Street\, Faversham\, Kent\, ME13 8NZ\, United Kingdom
CATEGORIES:Fairs & Markets
ATTACH;FMTTYPE=image/jpeg:https://thealex.org.uk/wp-content/uploads/2021/09/Screenshot_20220127-101538_Gallery75121-2.jpg
END:VEVENT
BEGIN:VEVENT
DTSTART;TZID=Europe/London:20261025T193000
DTEND;TZID=Europe/London:20261025T193000
DTSTAMP:20260421T033745
CREATED:20260409T171507Z
LAST-MODIFIED:20260415T101413Z
UID:10000608-1792956600-1792956600@thealex.org.uk
SUMMARY:Richard Digance - The Diamond Anniversary tour
DESCRIPTION:Richard Digance has been on the planet for 77 years\, on stage for 60 of them. If this recipient of The Gold Award from The British Academy of Composers and Songwriters doesn’t have songs to sing or stories to tell then it would be a shock to one and all. \nHe has released 45 albums\, written 24 books and composed audiobook music and songs for Bill Bryson. He has worked in America with movie star Steve Martin and recalls two of his greatest moments as playing The London Palladium with Robin Williams and a guitar duet on TV with Queen guitarist Brian May. \nHis TV career spanned 17 years\, appearing on Channel 4s Countdown nearly 200 times\nAnd now – by popular demand – he’s back in Faversham.\nYou are invited to join him for this special intimate performance. \n‘Richard Digance is brilliant’ – Bill Bryson\, the world’s best-selling travel author \n‘Richard Digance is a National Treasure’ Bob Harris\, BBC radio presenter \n”Richard is imaginative\, inventive and brilliant’ – Dan Patterson\, Producer – Mock The Week
URL:https://thealex.org.uk/event/richard-digance/
LOCATION:The Alexander Centre\, 17 Preston Street\, Faversham\, Kent\, ME13 8NZ\, United Kingdom
CATEGORIES:Comedy,Music
ATTACH;FMTTYPE=image/jpeg:https://thealex.org.uk/wp-content/uploads/2026/04/Website-featured-images-2.jpg
END:VEVENT
BEGIN:VEVENT
DTSTART;TZID=Europe/London:20261030T193000
DTEND;TZID=Europe/London:20261030T213000
DTSTAMP:20260421T033745
CREATED:20251113T123631Z
LAST-MODIFIED:20251121T142545Z
UID:10000472-1793388600-1793395800@thealex.org.uk
SUMMARY:The Phantom Raspberry Blower of Old London Town
DESCRIPTION:Written by Spike Milligan and Ronnie Barker\nAdapted by John Hewer \nSomething is rotten in Old London Town… \nIn Victorian England\, a rotten\, raspberry blower is claiming the lives of the upper-classes. The dark alleyways and moonlit graveyards of London are alive with the repetitive dins of the Phantom. \nInspector Corner of the Yard and his faithful sidekick\, Sergeant Bowles\, are fed up with these din-dins. The case is afoot. Will the Phantom be uncloaked? All will be revealed… particularly if the Phantom uncloaks himself. \nImmortalised by The Two Ronnies\, this Jack the Ripper parody is raspberry-jam-packed with Spike Milligan’s and Ronnie Barker’s love of surreal absurdism\, clever puns\, near-the-knuckle ribaldry\, quick-fire jokes and famous wordplay. \nCelebrating the 50th anniversary since its original broadcast in 1976\, this newly adapted stage play brings the Phantom back to life like never before. \nPresented by Hambledon Productions with the kind permission of Spike Milligan Productions Ltd and Handles for Forks Ltd.
URL:https://thealex.org.uk/event/the-phantom-raspberry-blower-of-old-london-town/
LOCATION:The Alexander Centre\, 17 Preston Street\, Faversham\, Kent\, ME13 8NZ\, United Kingdom
CATEGORIES:Theatre
ATTACH;FMTTYPE=image/png:https://thealex.org.uk/wp-content/uploads/2025/11/Website-featured-images-Sold-Out-banners-2025-11-13T154052.121.png
END:VEVENT
BEGIN:VEVENT
DTSTART;TZID=Europe/London:20261031T083000
DTEND;TZID=Europe/London:20261031T150000
DTSTAMP:20260421T033745
CREATED:20221115T135657Z
LAST-MODIFIED:20250619T124358Z
UID:10000112-1793435400-1793458800@thealex.org.uk
SUMMARY:Pre Loved Market - Indoor Boot Fair
DESCRIPTION:Our large indoor boot fair is set to draw treasure seekers and bargain hunters from Faversham and beyond. \nThis is your perfect chance to hunt for unique finds\, all within the comfort of our historic building\, with free entry for the public. \nOur coffee shop will be open\, offering a variety of hot and cold drinks\, snacks\, and light bites to keep you refreshed as you browse. \nDoors will open at 8:30am—don’t miss out! \n\n\n\n\n\n\n\n\n\n\n\nTo Become a stallholder:\nBooking your spot at our Pre-Loved Market is now easier than ever with our new system! Secure your pitch online in just a few clicks and get ready to sell your second-hand treasures. Please follow the Book Now button. \nDoors open for stall holders at 7am
URL:https://thealex.org.uk/event/pre-loved-market-exclusive-indoor-boot-fair-2023-04-29-2023-09-23-2024-09-28-2025-09-27-2026-01-24-2026-10-31/
LOCATION:The Alexander Centre\, 17 Preston Street\, Faversham\, Kent\, ME13 8NZ\, United Kingdom
CATEGORIES:Fairs & Markets
ATTACH;FMTTYPE=image/png:https://thealex.org.uk/wp-content/uploads/2022/11/Website-featured-images-Sold-Out-banners-18.png
END:VEVENT
BEGIN:VEVENT
DTSTART;TZID=Europe/London:20261031T100000
DTEND;TZID=Europe/London:20261031T120000
DTSTAMP:20260421T033745
CREATED:20251127T180055Z
LAST-MODIFIED:20260211T133847Z
UID:10000507-1793440800-1793448000@thealex.org.uk
SUMMARY:Fused Glass Workshop
DESCRIPTION:Fused Glass Adult Workshop \nCreate and connect with this fun sociable Fused Glass Workshop. This session will give you a great introduction to working with glass. Included in the price is enough specialist fusing glass to make two 10cm coasters/light catchers\, a 10 x 5cm hanger and a small 4 x 4cm hanger/keyring\, or the smaller hangers can be replaced with a three-piece bunting. Working with clear glass as your base you will use specialist accessory fusing glass to create your designs. If you wish to make additional pieces Jane will have a selection of glass that can be purchased on the day. The workshop is designed to be fun and allows you to be creative whilst learning the basic skills of working with glass. The session assumes no previous experience with glass and is suitable for those aged 16+. \nPlease note that your creation will not be available to take home on the day as this will need to be fired at the Jane’s studio. They will be ready for you to collect approximately 14 days after the workshop by arrangement with Jane. Each ticket includes complimentary tea and coffee. \nPlease wear suitable clothing and closed toe shoes. \nDuration 2 hours 10:00 to 12:00 \n£55 per person \nTo book please email: janepadghamdesigns@outlook.com \nFor examples of previous workshops please look at Jane’s social media sites: https://www.instagram.com/janepadgham/ https://www.facebook.com/JanePadghamDesigns/?locale=en_GB \nCancellation Policy – Workshop booking can be transferred to another date up to 10 days before the workshop. Sorry no refunds. \nTAC are not the organisers of this event.
URL:https://thealex.org.uk/event/fused-glass-adult-workshop-2025-11-15-2-2025-12-06-2-2025-12-06-2-3/2026-10-31/
LOCATION:The Alexander Centre\, 17 Preston Street\, Faversham\, Kent\, ME13 8NZ\, United Kingdom
CATEGORIES:Workshops,Workshops
ATTACH;FMTTYPE=image/jpeg:https://thealex.org.uk/wp-content/uploads/2024/11/Website-featured-images-2-1-1.jpg
END:VEVENT
BEGIN:VEVENT
DTSTART;TZID=Europe/London:20261031T100000
DTEND;TZID=Europe/London:20261031T143000
DTSTAMP:20260421T033745
CREATED:20260331T142002Z
LAST-MODIFIED:20260401T094714Z
UID:10000590-1793440800-1793457000@thealex.org.uk
SUMMARY:Faversham craft\, artisan & holistic fair  | The Faversham Assembly Rooms
DESCRIPTION:Browse a mix of crafts\, artisan goods and holistic products at a fair brought to you by ARevents. A great opportunity to meet independent traders and find something unique you won’t find on the high street. \nLocation: The Faversham Assembly rooms \nTo become a stallholder\, contact the team at arevents19@yahoo.com
URL:https://thealex.org.uk/event/faversham-craft-artisan-holistic-fair-the-faversham-assembly-rooms/2026-10-31/
LOCATION:The Alexander Centre\, 17 Preston Street\, Faversham\, Kent\, ME13 8NZ\, United Kingdom
CATEGORIES:Fairs & Markets
ATTACH;FMTTYPE=image/png:https://thealex.org.uk/wp-content/uploads/2026/03/Website-featured-images-2-3-3.png
END:VEVENT
END:VCALENDAR