BEGIN:VCALENDAR
VERSION:2.0
PRODID:-//The Alexander Centre - ECPv6.15.20//NONSGML v1.0//EN
CALSCALE:GREGORIAN
METHOD:PUBLISH
X-ORIGINAL-URL:https://thealex.org.uk
X-WR-CALDESC:Events for The Alexander Centre
REFRESH-INTERVAL;VALUE=DURATION:PT1H
X-Robots-Tag:noindex
X-PUBLISHED-TTL:PT1H
BEGIN:VTIMEZONE
TZID:Europe/London
BEGIN:DAYLIGHT
TZOFFSETFROM:+0000
TZOFFSETTO:+0100
TZNAME:BST
DTSTART:20250330T010000
END:DAYLIGHT
BEGIN:STANDARD
TZOFFSETFROM:+0100
TZOFFSETTO:+0000
TZNAME:GMT
DTSTART:20251026T010000
END:STANDARD
BEGIN:DAYLIGHT
TZOFFSETFROM:+0000
TZOFFSETTO:+0100
TZNAME:BST
DTSTART:20260329T010000
END:DAYLIGHT
BEGIN:STANDARD
TZOFFSETFROM:+0100
TZOFFSETTO:+0000
TZNAME:GMT
DTSTART:20261025T010000
END:STANDARD
BEGIN:DAYLIGHT
TZOFFSETFROM:+0000
TZOFFSETTO:+0100
TZNAME:BST
DTSTART:20270328T010000
END:DAYLIGHT
BEGIN:STANDARD
TZOFFSETFROM:+0100
TZOFFSETTO:+0000
TZNAME:GMT
DTSTART:20271031T010000
END:STANDARD
END:VTIMEZONE
BEGIN:VEVENT
DTSTART;TZID=Europe/London:20260911T193000
DTEND;TZID=Europe/London:20260911T220000
DTSTAMP:20260421T015943
CREATED:20260303T103344Z
LAST-MODIFIED:20260303T103344Z
UID:10000553-1789155000-1789164000@thealex.org.uk
SUMMARY:Drag Bingo with Delilah Tickles and Anita Wee
DESCRIPTION:Drag Bingo with Delilah Tickles and Anita Wee \nIn support of the Mayor of Swale’s Charities (Sateda & Cancer Research UK) \n\nWe’re expecting a Full House of fun as we welcome the infamous Delilah Tickles & Anita Wee to host our first evening of Drag Bingo! \nEyes Down for a Full House as you take part in four fabulous games of bingo – all presented with a smattering of humour in the best possible taste! There’s prizes to be won\, and our bar will be open. \nDress to impress – bring on the glitz and glamour – a prize is awarded for the best-dressed Queen! \nThere will also be a raffle. \nPre-book a grazing plate to provide a delicious plate of nibbles to soak up the alcohol!  A plate of snacks including cold meats\, cheese\, crackers and pickles. \nThis is a fundraising event for the Mayor of Swale’s Charities Cancer Research UK and Sateda. \n \n 
URL:https://thealex.org.uk/event/drag-bingo-with-delilah-tickles-and-anita-wee-2/
LOCATION:The Alexander Centre\, 17 Preston Street\, Faversham\, Kent\, ME13 8NZ\, United Kingdom
CATEGORIES:Comedy,Dance
ATTACH;FMTTYPE=image/png:https://thealex.org.uk/wp-content/uploads/2025/10/Website-featured-images-Sold-Out-banners-2025-11-06T134739.051.png
END:VEVENT
BEGIN:VEVENT
DTSTART;TZID=Europe/London:20260913T150000
DTEND;TZID=Europe/London:20260913T150000
DTSTAMP:20260421T015943
CREATED:20260414T101920Z
LAST-MODIFIED:20260420T094636Z
UID:10000614-1789311600-1789311600@thealex.org.uk
SUMMARY:General Medical Emergency Ward 10
DESCRIPTION:Following a fire in The Alex’s main hall\,  this event has been relocated to The Arden Theatre. Leslie Smith Dr\, Faversham ME13 8PW ( In the Central carpark)  \n\nThe award-winning Dyad Productions and Company Gavin Robertson are joining forces! \nIt’s a pedigree of the first degree! Between them\, Dyad’s recent productions – Austen’s Women: LADY SUSAN\, A Christmas Carol\, A Room of One’s Own\, That Knave\, Raleigh – and Gavin Robertson\, with Done to Death by Jove!\, The Ghost of a Smile andBOND – An Unauthorised Parody have toured both the UK and internationally\, with resounding success over the last few years. Labouring away in secret\, looking for the perfect co-production has taken time\, but finally the answer has arrived! \nEvery hospital\, medical-based\, Doctors-and-Nurses cliché-ridden drama onstage in a comedy mash-up spoof! \nIt’ll have you in stitches! \nIt’s Dr Ann Fleming’s first day at St David’s\, where her unfortunately-named mentor Dr Death\, is determined to show her who’s boss. As medical emergencies overload the hapless staff\, Dr Fleming has to juggle a complicated budding love affair\, with a kidney\, and a nosey Hospital boss. Not literally. \nYes – Holby City\, Casualty\, E.R. and Doctors – not to mention movies galore\, are re-imagined and invigorated by Rebecca Vaughan\, Andrew Margerison and Gavin Robertson in a pacy\, cliché-ridden comic homage to the intrigues and dramas of every hospital plotline on the big and small screen! \nTo be taken once a day (or twice if there’s a matinee). \nCreated in collaboration with the Old Town Hall\, Hemel Hempstead. \n★★★★★ ‘If you haven’t seen Dyad Productions’ work before\, you simply must’ – British Theatre Guide\n★★★★★ ’Robertson performs with a subtle conviction that’s compelling to watch’ – The Guardian
URL:https://thealex.org.uk/event/general-medical-emergency-ward-10/
LOCATION:The Alexander Centre\, 17 Preston Street\, Faversham\, Kent\, ME13 8NZ\, United Kingdom
CATEGORIES:Comedy,Theatre
ATTACH;FMTTYPE=image/jpeg:https://thealex.org.uk/wp-content/uploads/2026/04/001-h-scaled.jpg
END:VEVENT
BEGIN:VEVENT
DTSTART;TZID=Europe/London:20260913T183000
DTEND;TZID=Europe/London:20260913T183000
DTSTAMP:20260421T015943
CREATED:20220124T114126Z
LAST-MODIFIED:20260409T151915Z
UID:10000603-1789324200-1789324200@thealex.org.uk
SUMMARY:Comedy Lock-In
DESCRIPTION:Faversham‘s monthly night of stand-up comedy from the best new and up-and-coming acts on the UK comedy circuit comes to The Alex on the second Sunday of each month. \nDoors 6.00pm \nDonations welcome – pay what you can! \n 
URL:https://thealex.org.uk/event/comedylockin/2026-09-13/
LOCATION:The Alexander Centre\, 17 Preston Street\, Faversham\, Kent\, ME13 8NZ\, United Kingdom
CATEGORIES:Comedy
ATTACH;FMTTYPE=image/png:https://thealex.org.uk/wp-content/uploads/2022/01/Website-featured-images-Sold-Out-banners-2025-04-07T085244.820-2.png
END:VEVENT
BEGIN:VEVENT
DTSTART;TZID=Europe/London:20260918T200000
DTEND;TZID=Europe/London:20260918T220000
DTSTAMP:20260421T015943
CREATED:20260213T145844Z
LAST-MODIFIED:20260217T142717Z
UID:10000564-1789761600-1789768800@thealex.org.uk
SUMMARY:The McCartney Tribute Collection
DESCRIPTION:This is not your average Beatles show!\nTake an extraordinary journey through The Beatles\, Wings\, and McCartney classics — a dazzling solo show with live instruments\, stunning visuals\, and unforgettable nostalgia. \nFrom the legendary Cavern Club\, Glastonbury glampers\, pubs\, clubs and restaurants to sold-out shows abroad. The McCartney Tribute Collection is a high-energy\, heartfelt celebration of Paul McCartney’s timeless musical legacy —  a magical\, crowd-pleasing party for every generation. \n“The McCartney musical vocal timbre certainly makes for great listening and in a solo setting\, this will be a great night out for music lovers and those who enjoy The Beatles Wings and beyond!” – UK Cabaret magazine November 2025
URL:https://thealex.org.uk/event/the-mccartney-tribute-collection/
LOCATION:The Alexander Centre\, 17 Preston Street\, Faversham\, Kent\, ME13 8NZ\, United Kingdom
CATEGORIES:Music
ATTACH;FMTTYPE=image/png:https://thealex.org.uk/wp-content/uploads/2026/02/Website-featured-images-2-3-4.png
END:VEVENT
BEGIN:VEVENT
DTSTART;TZID=Europe/London:20260919T100000
DTEND;TZID=Europe/London:20260919T120000
DTSTAMP:20260421T015943
CREATED:20251127T180055Z
LAST-MODIFIED:20260211T133847Z
UID:10000560-1789812000-1789819200@thealex.org.uk
SUMMARY:Fused Glass Workshop
DESCRIPTION:Fused Glass Adult Workshop \nCreate and connect with this fun sociable Fused Glass Workshop. This session will give you a great introduction to working with glass. Included in the price is enough specialist fusing glass to make two 10cm coasters/light catchers\, a 10 x 5cm hanger and a small 4 x 4cm hanger/keyring\, or the smaller hangers can be replaced with a three-piece bunting. Working with clear glass as your base you will use specialist accessory fusing glass to create your designs. If you wish to make additional pieces Jane will have a selection of glass that can be purchased on the day. The workshop is designed to be fun and allows you to be creative whilst learning the basic skills of working with glass. The session assumes no previous experience with glass and is suitable for those aged 16+. \nPlease note that your creation will not be available to take home on the day as this will need to be fired at the Jane’s studio. They will be ready for you to collect approximately 14 days after the workshop by arrangement with Jane. Each ticket includes complimentary tea and coffee. \nPlease wear suitable clothing and closed toe shoes. \nDuration 2 hours 10:00 to 12:00 \n£55 per person \nTo book please email: janepadghamdesigns@outlook.com \nFor examples of previous workshops please look at Jane’s social media sites: https://www.instagram.com/janepadgham/ https://www.facebook.com/JanePadghamDesigns/?locale=en_GB \nCancellation Policy – Workshop booking can be transferred to another date up to 10 days before the workshop. Sorry no refunds. \nTAC are not the organisers of this event.
URL:https://thealex.org.uk/event/fused-glass-adult-workshop-2025-11-15-2-2025-12-06-2-2025-12-06-2-3/2026-09-19/
LOCATION:The Alexander Centre\, 17 Preston Street\, Faversham\, Kent\, ME13 8NZ\, United Kingdom
CATEGORIES:Workshops,Workshops
ATTACH;FMTTYPE=image/jpeg:https://thealex.org.uk/wp-content/uploads/2024/11/Website-featured-images-2-1-1.jpg
END:VEVENT
BEGIN:VEVENT
DTSTART;TZID=Europe/London:20260919T100000
DTEND;TZID=Europe/London:20260919T150000
DTSTAMP:20260421T015943
CREATED:20210927T105350Z
LAST-MODIFIED:20260130T104630Z
UID:10000018-1789812000-1789830000@thealex.org.uk
SUMMARY:Faversham Artisan Crafts and Gift Market
DESCRIPTION:Faversham Artisan Crafts and Gift Market. \nA selection of the best of Kent’s craft and gift products\, including jewellery\, homeware\, artwork\, photography\, candles\, soaps\, clothing\, beauty\, food and much\, much more! Free Entry. \nFrom 10.00 am to 3.00 pm. Organised by Eventissima Events. \nFree entry\, come along for a browse. \nOur pop-up tearoom will also be open\, so why not stop for some tea and cake? \n \nTo join as a trader please contact Eventissima Events: \nEmail: eventissima@outlook.com \nContact Tel 07582351364
URL:https://thealex.org.uk/event/artisan-craft-curios-gift-market-2021-11-06-2025-03-01/2026-09-19/
LOCATION:The Alexander Centre\, 17 Preston Street\, Faversham\, Kent\, ME13 8NZ\, United Kingdom
CATEGORIES:Fairs & Markets
ATTACH;FMTTYPE=image/jpeg:https://thealex.org.uk/wp-content/uploads/2021/09/Screenshot_20220127-101538_Gallery75121-2.jpg
END:VEVENT
BEGIN:VEVENT
DTSTART;TZID=Europe/London:20260925T200000
DTEND;TZID=Europe/London:20260925T200000
DTSTAMP:20260421T015943
CREATED:20260323T151609Z
LAST-MODIFIED:20260323T152859Z
UID:10000585-1790366400-1790366400@thealex.org.uk
SUMMARY:WOT ITALIAN? | The Faversham Assembly Rooms
DESCRIPTION:WOT ITALIAN? \nGet ready for an unforgettable evening of music\, comedy\, and charm as award-winning comedian and singer-songwriter Boothby Graffoe teams up with internationally acclaimed Italian guitarist Antonio Forcione. \n“Wot Italian?” Is a hilarious and heartfelt collision of Graffoe’s sharp wit and whimsical storytelling with Forcione’s virtuosic guitar mastery. This show promises a mix of brilliantly crafted songs\, laugh-out-loud banter\, and jaw-dropping musical skill—all served with a side of Mediterranean flair. \nFrom tender ballads to toe-tapping tunes\, expect an eclectic mix of genres and an atmosphere that’s as warm and inviting as a Tuscan summer evening. Whether you’re here for the laughs\, the tunes\, or a little bit of both\, “Wot Italian?” is a show that will leave your heart lighter and your spirits soaring. \nDon’t miss this unique collaboration—an evening of joy\, artistry\, and laughter awaits!
URL:https://thealex.org.uk/event/wot-italian-the-faversham-assembly-rooms/
LOCATION:The Alexander Centre\, 17 Preston Street\, Faversham\, Kent\, ME13 8NZ\, United Kingdom
CATEGORIES:Comedy,Music
ATTACH;FMTTYPE=image/png:https://thealex.org.uk/wp-content/uploads/2026/03/Wot-Italian-Image-1.png
END:VEVENT
BEGIN:VEVENT
DTSTART;TZID=Europe/London:20260926T083000
DTEND;TZID=Europe/London:20260926T150000
DTSTAMP:20260421T015943
CREATED:20221115T135657Z
LAST-MODIFIED:20250619T124040Z
UID:10000108-1790411400-1790434800@thealex.org.uk
SUMMARY:Pre Loved Market - Indoor Boot Fair
DESCRIPTION:Our large indoor boot fair is set to draw treasure seekers and bargain hunters from Faversham and beyond. \nThis is your perfect chance to hunt for unique finds\, all within the comfort of our historic building\, with free entry for the public. \nOur coffee shop will be open\, offering a variety of hot and cold drinks\, snacks\, and light bites to keep you refreshed as you browse. \nDoors will open at 8:30am—don’t miss out! \n\n\n\n\n\n\n\n\n\n\n\nTo Become a stallholder:\nBooking your spot at our Pre-Loved Market is now easier than ever with our new system! Secure your pitch online in just a few clicks and get ready to sell your second-hand treasures. Please follow the Book Now button. \nDoors open for stall holders at 7am
URL:https://thealex.org.uk/event/pre-loved-market-exclusive-indoor-boot-fair-2023-04-29-2023-09-23-2024-09-28-2025-09-27-2026-01-24-2026-09-26/
LOCATION:The Alexander Centre\, 17 Preston Street\, Faversham\, Kent\, ME13 8NZ\, United Kingdom
CATEGORIES:Fairs & Markets
ATTACH;FMTTYPE=image/png:https://thealex.org.uk/wp-content/uploads/2022/11/Website-featured-images-Sold-Out-banners-18.png
END:VEVENT
END:VCALENDAR