BEGIN:VCALENDAR
VERSION:2.0
PRODID:-//The Alexander Centre - ECPv6.15.20//NONSGML v1.0//EN
CALSCALE:GREGORIAN
METHOD:PUBLISH
X-ORIGINAL-URL:https://thealex.org.uk
X-WR-CALDESC:Events for The Alexander Centre
REFRESH-INTERVAL;VALUE=DURATION:PT1H
X-Robots-Tag:noindex
X-PUBLISHED-TTL:PT1H
BEGIN:VTIMEZONE
TZID:Europe/London
BEGIN:DAYLIGHT
TZOFFSETFROM:+0000
TZOFFSETTO:+0100
TZNAME:BST
DTSTART:20250330T010000
END:DAYLIGHT
BEGIN:STANDARD
TZOFFSETFROM:+0100
TZOFFSETTO:+0000
TZNAME:GMT
DTSTART:20251026T010000
END:STANDARD
BEGIN:DAYLIGHT
TZOFFSETFROM:+0000
TZOFFSETTO:+0100
TZNAME:BST
DTSTART:20260329T010000
END:DAYLIGHT
BEGIN:STANDARD
TZOFFSETFROM:+0100
TZOFFSETTO:+0000
TZNAME:GMT
DTSTART:20261025T010000
END:STANDARD
BEGIN:DAYLIGHT
TZOFFSETFROM:+0000
TZOFFSETTO:+0100
TZNAME:BST
DTSTART:20270328T010000
END:DAYLIGHT
BEGIN:STANDARD
TZOFFSETFROM:+0100
TZOFFSETTO:+0000
TZNAME:GMT
DTSTART:20271031T010000
END:STANDARD
END:VTIMEZONE
BEGIN:VEVENT
DTSTART;TZID=Europe/London:20260801T100000
DTEND;TZID=Europe/London:20260801T160000
DTSTAMP:20260421T002502
CREATED:20260219T161954Z
LAST-MODIFIED:20260219T162324Z
UID:10000567-1785578400-1785600000@thealex.org.uk
SUMMARY:Kent’s Magical Market 2026
DESCRIPTION:✨Kent’s Magical Market Returns to Faversham for 2026!✨ \nWe’re delighted to announce that Kent’s Magical Market is returning to Faversham for the third year in a row — and for 2026\, we’re making it even more magical! \nThis year\, you won’t find all your enchanting treasures under one roof… but two! Our whimsical and wonderful stallholders will be spread across both the beautiful Faversham Assembly Rooms and the vibrant The Alexander Centre\, creating an even bigger and more immersive experience. \nStep into a world of wonder at our two-day magical market\, filled with vibrant stalls\, unique handcrafted treasures\, mystical curiosities\, and extraordinary special guests. Whether you’re hunting for something spellbinding or simply soaking up the atmosphere\, there’s magic waiting around every corner. \n\n\n\n📅 Dates & Times \nSaturday 1st August — 10am to 4pm\nSunday 2nd August — 10am to 4pm \n📍 Location \nThe Alexander Centre & Faversham Assembly Rooms\, Faversham \nFREE ENTRY — everyone welcome! \n\n\n\nStallholders \nInterested in trading at Kent’s Magical Market? Single and double pitches are available. For more information or to book your space\, please contact the KMM team at kentsmagicalmarket@outlook.com. \nWe can’t wait to bring the magic back to Faversham — see you there! ✨
URL:https://thealex.org.uk/event/kents-magical-market/2026-08-01/
LOCATION:The Alexander Centre\, 17 Preston Street\, Faversham\, Kent\, ME13 8NZ\, United Kingdom
CATEGORIES:Fairs & Markets
ATTACH;FMTTYPE=image/png:https://thealex.org.uk/wp-content/uploads/2026/02/Website-featured-images-Sold-Out-banners-2026-02-19T161537.076.png
END:VEVENT
BEGIN:VEVENT
DTSTART;TZID=Europe/London:20260801T193000
DTEND;TZID=Europe/London:20260801T193000
DTSTAMP:20260421T002502
CREATED:20260220T120115Z
LAST-MODIFIED:20260325T110140Z
UID:10000569-1785612600-1785612600@thealex.org.uk
SUMMARY:Fantasy Ball 2026 - Faversham Assembly Rooms
DESCRIPTION:✨🎭 Step Into the Magic at the Fantasy Ball 2026! 🎭✨\nFor the third year running\, Kent’s Magical Market is bringing the spectacular Fantasy Ball to Faversham — and 2026 promises to be the most enchanting evening yet. \nJoin us on Saturday 1st August 2026 for a night where fantasy becomes reality. Dress to dazzle — whether you’re a hero\, fae\, royal\, rogue\, or dreamer — and prepare for an unforgettable evening filled with music\, magic\, and immersive atmosphere. \nHeld at the beautiful Faversham Assembly Rooms\, this standing event (with limited seating available) transforms the space into a realm of wonder for one extraordinary night. \n\n🎶 Live Entertainment Line-Up\n🔮 Badra\nHypnotic tribal fusion dance bringing ancient rhythms and spellbinding energy to the stage.\n🌙 Ashly Cruz\nA powerful\, captivating voice delivering haunting and soulful ballads.\n🌿 Victor and the Bully\nA London-based gothic steampunk band with a finger in many genres and a flair for the eccentric\, blending theatrical flair with dark\, electrifying sound.
URL:https://thealex.org.uk/event/fantasy-ball-2026/
LOCATION:The Alexander Centre\, 17 Preston Street\, Faversham\, Kent\, ME13 8NZ\, United Kingdom
CATEGORIES:Dance,Music
ATTACH;FMTTYPE=image/png:https://thealex.org.uk/wp-content/uploads/2026/02/Website-featured-images-2-2-2.png
END:VEVENT
BEGIN:VEVENT
DTSTART;TZID=Europe/London:20260802T100000
DTEND;TZID=Europe/London:20260802T160000
DTSTAMP:20260421T002502
CREATED:20260219T161954Z
LAST-MODIFIED:20260219T162324Z
UID:10000568-1785664800-1785686400@thealex.org.uk
SUMMARY:Kent’s Magical Market 2026
DESCRIPTION:✨Kent’s Magical Market Returns to Faversham for 2026!✨ \nWe’re delighted to announce that Kent’s Magical Market is returning to Faversham for the third year in a row — and for 2026\, we’re making it even more magical! \nThis year\, you won’t find all your enchanting treasures under one roof… but two! Our whimsical and wonderful stallholders will be spread across both the beautiful Faversham Assembly Rooms and the vibrant The Alexander Centre\, creating an even bigger and more immersive experience. \nStep into a world of wonder at our two-day magical market\, filled with vibrant stalls\, unique handcrafted treasures\, mystical curiosities\, and extraordinary special guests. Whether you’re hunting for something spellbinding or simply soaking up the atmosphere\, there’s magic waiting around every corner. \n\n\n\n📅 Dates & Times \nSaturday 1st August — 10am to 4pm\nSunday 2nd August — 10am to 4pm \n📍 Location \nThe Alexander Centre & Faversham Assembly Rooms\, Faversham \nFREE ENTRY — everyone welcome! \n\n\n\nStallholders \nInterested in trading at Kent’s Magical Market? Single and double pitches are available. For more information or to book your space\, please contact the KMM team at kentsmagicalmarket@outlook.com. \nWe can’t wait to bring the magic back to Faversham — see you there! ✨
URL:https://thealex.org.uk/event/kents-magical-market/2026-08-02/
LOCATION:The Alexander Centre\, 17 Preston Street\, Faversham\, Kent\, ME13 8NZ\, United Kingdom
CATEGORIES:Fairs & Markets
ATTACH;FMTTYPE=image/png:https://thealex.org.uk/wp-content/uploads/2026/02/Website-featured-images-Sold-Out-banners-2026-02-19T161537.076.png
END:VEVENT
BEGIN:VEVENT
DTSTART;VALUE=DATE:20260807
DTEND;VALUE=DATE:20260808
DTSTAMP:20260421T002502
CREATED:20260410T120114Z
LAST-MODIFIED:20260410T120602Z
UID:10000611-1786060800-1786147199@thealex.org.uk
SUMMARY:Summer Creative Fun | sand art and pebble painting
DESCRIPTION:Join us for a hands-on art session where children can get creative with sand art and pebble painting! Children will start by designing ideas on paper before bringing them to life on pebbles. \nSession Times:\n• 10:00am – 12:00pm\n• 12:30pm – 2:30pm \nImportant Information:\nThis is an adult-led activity and not a drop-off session. Children must be accompanied by an adult. \nAbout Charlotte \n\nCharlotte (Lottie) Ralph is an 8-time award-winning artist\, illustrator\, author\, and body artist\, specialising in therapeutic art. As a mum of four\, she is passionate about using creativity to support others through workshops and art-based therapy.\nHer work has been featured in national and international publications\, and she designs all of her own books and products with a strong therapeutic focus. Charlotte also uses body painting as a powerful tool for empowerment and self-expression\, alongside hosting events and exhibitions.\nShe is the Co-Founder of the Be Body Confident Campaign and is currently launching her Art Therapy Shed to support children\, families\, and individuals through creative\, nature-based experiences.
URL:https://thealex.org.uk/event/summer-creative-fun-sand-art-and-pebble-painting/
LOCATION:The Alexander Centre\, 17 Preston Street\, Faversham\, Kent\, ME13 8NZ\, United Kingdom
CATEGORIES:Art,Family,Workshops,Workshops
ATTACH;FMTTYPE=image/jpeg:https://thealex.org.uk/wp-content/uploads/2026/04/Website-featured-images-2-1.jpg
END:VEVENT
BEGIN:VEVENT
DTSTART;VALUE=DATE:20260814
DTEND;VALUE=DATE:20260815
DTSTAMP:20260421T002502
CREATED:20260410T113135Z
LAST-MODIFIED:20260410T120517Z
UID:10000610-1786665600-1786751999@thealex.org.uk
SUMMARY:Summer Creative Fun | Suncatchers!
DESCRIPTION:Get ready for a magical hands-on session creating your very own suncatchers! \nDesign them using paper plates\, ribbons\, and decorations\, then bring them to life by adding beads and ribbon to your sticks. \nSession Times:\n• 10:00am – 12:00pm\n• 12:30pm – 2:30pm \nImportant Information:\nThis is an adult-led activity and not a drop-off session. Children must be accompanied by an adult. \nAbout Charlotte \n\nCharlotte (Lottie) Ralph is an 8-time award-winning artist\, illustrator\, author\, and body artist\, specialising in therapeutic art. As a mum of four\, she is passionate about using creativity to support others through workshops and art-based therapy.\nHer work has been featured in national and international publications\, and she designs all of her own books and products with a strong therapeutic focus. Charlotte also uses body painting as a powerful tool for empowerment and self-expression\, alongside hosting events and exhibitions.\nShe is the Co-Founder of the Be Body Confident Campaign and is currently launching her Art Therapy Shed to support children\, families\, and individuals through creative\, nature-based experiences.
URL:https://thealex.org.uk/event/summer-creative-fun-suncatchers/
LOCATION:The Alexander Centre\, 17 Preston Street\, Faversham\, Kent\, ME13 8NZ\, United Kingdom
CATEGORIES:Art,Family,Workshops,Workshops
ATTACH;FMTTYPE=image/jpeg:https://thealex.org.uk/wp-content/uploads/2026/04/Website-featured-images-2-1.jpg
END:VEVENT
BEGIN:VEVENT
DTSTART;VALUE=DATE:20260821
DTEND;VALUE=DATE:20260822
DTSTAMP:20260421T002502
CREATED:20260410T121510Z
LAST-MODIFIED:20260410T121510Z
UID:10000612-1787270400-1787356799@thealex.org.uk
SUMMARY:Summer Creative Fun | Sensory play session
DESCRIPTION:Join us for a fun and engaging sensory play session\, perfect for encouraging creativity and exploration. \nChildren will create their own sensory bottles and sensory bags\, using materials such as rice\, beads\, pom poms\, and hair gel. These interactive creations can be used for calming play\, creative expression\, and even as musical-style instruments. \nSession Times:\n• 10:00am – 12:00pm\n• 12:30pm – 2:30pm \nImportant Information:\nThis is an adult-led activity and not a drop-off session. Children must be accompanied by an adult. \nAbout Charlotte \n\nCharlotte (Lottie) Ralph is an 8-time award-winning artist\, illustrator\, author\, and body artist\, specialising in therapeutic art. As a mum of four\, she is passionate about using creativity to support others through workshops and art-based therapy.\nHer work has been featured in national and international publications\, and she designs all of her own books and products with a strong therapeutic focus. Charlotte also uses body painting as a powerful tool for empowerment and self-expression\, alongside hosting events and exhibitions.\nShe is the Co-Founder of the Be Body Confident Campaign and is currently launching her Art Therapy Shed to support children\, families\, and individuals through creative\, nature-based experiences.
URL:https://thealex.org.uk/event/summer-creative-fun-sensory-play-session/
LOCATION:The Alexander Centre\, 17 Preston Street\, Faversham\, Kent\, ME13 8NZ\, United Kingdom
CATEGORIES:Art,Family,Workshops,Workshops
ATTACH;FMTTYPE=image/jpeg:https://thealex.org.uk/wp-content/uploads/2026/04/Website-featured-images-2-1.jpg
END:VEVENT
BEGIN:VEVENT
DTSTART;TZID=Europe/London:20260822T190000
DTEND;TZID=Europe/London:20260822T220000
DTSTAMP:20260421T002502
CREATED:20260408T112542Z
LAST-MODIFIED:20260408T135025Z
UID:10000599-1787425200-1787436000@thealex.org.uk
SUMMARY:Barn Dance
DESCRIPTION:Get ready to swing into action at our Barn Dance featuring the lively Boughton Ceilidh Band! \nWith live music and expert calling\, this is your chance to enjoy an evening packed with toe-tapping\, fun-filled dancing for all ages and abilities. Plus\, we’ve got a fully licensed bar to keep you refreshed throughout the night. Don’t miss out! \nAuthentic clothing is not compulsory but always welcome. \n16 and under go FREE!\nParent/Carer supervision is required for all under 18s.
URL:https://thealex.org.uk/event/barn-dance/
LOCATION:The Alexander Centre\, 17 Preston Street\, Faversham\, Kent\, ME13 8NZ\, United Kingdom
CATEGORIES:Dance
ATTACH;FMTTYPE=image/jpeg:https://thealex.org.uk/wp-content/uploads/2026/04/Website-featured-images-Sold-Out-banners-5.jpg
END:VEVENT
BEGIN:VEVENT
DTSTART;VALUE=DATE:20260827
DTEND;VALUE=DATE:20260828
DTSTAMP:20260421T002502
CREATED:20260410T104821Z
LAST-MODIFIED:20260410T120529Z
UID:10000609-1787788800-1787875199@thealex.org.uk
SUMMARY:Summer Creative Fun | Marble painting and string painting
DESCRIPTION:Join us for a fun-filled creative session exploring marble painting and string painting—perfect for children who love to experiment with colour and texture. \nChildren will create unique artwork by rolling paint-covered marbles inside a box to produce exciting patterns. They will also explore string painting by arranging string on paper\, adding paint and optional glitter\, then moving the string to reveal beautiful\, abstract designs. \nSession Times:\n• 10:00am – 12:00pm\n• 12:30pm – 2:30pm \nImportant Information:\nThis is an adult-led activity and not a drop-off session. Children must be accompanied by an adult. \nAbout Charlotte \n\nCharlotte (Lottie) Ralph is an 8-time award-winning artist\, illustrator\, author\, and body artist\, specialising in therapeutic art. As a mum of four\, she is passionate about using creativity to support others through workshops and art-based therapy.\nHer work has been featured in national and international publications\, and she designs all of her own books and products with a strong therapeutic focus. Charlotte also uses body painting as a powerful tool for empowerment and self-expression\, alongside hosting events and exhibitions.\nShe is the Co-Founder of the Be Body Confident Campaign and is currently launching her Art Therapy Shed to support children\, families\, and individuals through creative\, nature-based experiences.
URL:https://thealex.org.uk/event/summer-creative-fun-marble-painting-and-string-painting/
LOCATION:The Alexander Centre\, 17 Preston Street\, Faversham\, Kent\, ME13 8NZ\, United Kingdom
CATEGORIES:Art,Family,Workshops,Workshops
ATTACH;FMTTYPE=image/jpeg:https://thealex.org.uk/wp-content/uploads/2026/04/Website-featured-images-2-1.jpg
END:VEVENT
END:VCALENDAR