BEGIN:VCALENDAR
VERSION:2.0
PRODID:-//The Alexander Centre - ECPv6.15.20//NONSGML v1.0//EN
CALSCALE:GREGORIAN
METHOD:PUBLISH
X-WR-CALNAME:The Alexander Centre
X-ORIGINAL-URL:https://thealex.org.uk
X-WR-CALDESC:Events for The Alexander Centre
REFRESH-INTERVAL;VALUE=DURATION:PT1H
X-Robots-Tag:noindex
X-PUBLISHED-TTL:PT1H
BEGIN:VTIMEZONE
TZID:Europe/London
BEGIN:DAYLIGHT
TZOFFSETFROM:+0000
TZOFFSETTO:+0100
TZNAME:BST
DTSTART:20250330T010000
END:DAYLIGHT
BEGIN:STANDARD
TZOFFSETFROM:+0100
TZOFFSETTO:+0000
TZNAME:GMT
DTSTART:20251026T010000
END:STANDARD
BEGIN:DAYLIGHT
TZOFFSETFROM:+0000
TZOFFSETTO:+0100
TZNAME:BST
DTSTART:20260329T010000
END:DAYLIGHT
BEGIN:STANDARD
TZOFFSETFROM:+0100
TZOFFSETTO:+0000
TZNAME:GMT
DTSTART:20261025T010000
END:STANDARD
BEGIN:DAYLIGHT
TZOFFSETFROM:+0000
TZOFFSETTO:+0100
TZNAME:BST
DTSTART:20270328T010000
END:DAYLIGHT
BEGIN:STANDARD
TZOFFSETFROM:+0100
TZOFFSETTO:+0000
TZNAME:GMT
DTSTART:20271031T010000
END:STANDARD
END:VTIMEZONE
BEGIN:VEVENT
DTSTART;TZID=Europe/London:20260124T170000
DTEND;TZID=Europe/London:20260124T170000
DTSTAMP:20260423T193030
CREATED:20251114T100043Z
LAST-MODIFIED:20260114T130010Z
UID:10000001-1769274000-1769274000@thealex.org.uk
SUMMARY:Mark Simmons: Jest to Impress EXTRA DATE – St Mary's Church
DESCRIPTION:Important Notice: Fire at the Alexander Centre\nOn New Year’s Eve\, a fire occurred at the rear of our Gatefield Hall\, The Alex’s main events space. Thankfully\, no one was in the venue and there were no injuries. This event has now been relocated to St Mary’s Church\, Church Rd\, Faversham ME13 8GZ . \nWe will be\, or may already have been\, in touch with all current ticket holders directly. If you have any questions\, please get in contact via email at bookings@thealex.org.uk or by phone on 01795 591691. \nTo read more about the fire and its effects please click HERE \n\nMark Simmons – Jest to Impress\nWINNER Dave’s Funniest Joke of the Fringe 2024 \nAs Seen on Mock The Week\, BT Sport and ITV\, ‘Master of one-liners’ Mark Simmons had a groundbreaking 200+ date sell out debut tour lasting two years\, spanning the UK\, Ireland\, Australia\, and New Zealand. \nMark is back on tour in 2026 with Jest To Impress\, a brand new show packed with even more expertly crafted one-liners\, alongside his trademark off-the-cuff jokes based on random audience suggestions. \nMark is enjoying further success with his podcast\, Jokes With Mark Simmons\, where he invites a fellow comic\, such as Gary Delaney\, Sarah Millican\, Milton Jones\, and Penn & Teller to discuss jokes that they’ve written but for whatever reason couldn’t get to work. \nRecipient of Victoria Wood Panel Prize Fringe 2023 \nUK Comics’ Comic 2022 – Best Act \nRUNNER UP DAVE’s Top 10 Jokes of the Fringe 2022 \n‘Master of the crisp\, clean\, one-line zinger’ ****\nEvening Standard \n‘A talented comic with an artisan’s grasp of joke writing’ ****\nChortle \n‘Master of one-liners…his show consists of literally one liner after one liner\, with one or two breaks for the audience to catch their breath before another assault on the laughter and muscles with the next segment’ ****\nOne4Review \n‘Absolutely hilarious’ ****\n Scotsman
URL:https://thealex.org.uk/event/mark-simmons-jest-to-impress-2026-01-25/
LOCATION:The Alexander Centre\, 17 Preston Street\, Faversham\, Kent\, ME13 8NZ\, United Kingdom
CATEGORIES:Comedy
ATTACH;FMTTYPE=image/jpeg:https://thealex.org.uk/wp-content/uploads/2025/11/Website-featured-images-Sold-Out-banners-1.jpg
END:VEVENT
BEGIN:VEVENT
DTSTART;TZID=Europe/London:20260124T093000
DTEND;TZID=Europe/London:20260124T150000
DTSTAMP:20260423T193030
CREATED:20250822T121009Z
LAST-MODIFIED:20260114T130136Z
UID:10000414-1769247000-1769266800@thealex.org.uk
SUMMARY:Book Fair - The Alex
DESCRIPTION:Books for all. Cheap paperbacks to collectable tomes. The dealers have 100s of years of experience. Our tea room and café are open too\, so why not grab a drink\, have a browse\, and maybe discover your next great read?
URL:https://thealex.org.uk/event/book-fair/2026-01-24/
LOCATION:The Alexander Centre\, 17 Preston Street\, Faversham\, Kent\, ME13 8NZ\, United Kingdom
CATEGORIES:Fairs & Markets
ATTACH;FMTTYPE=image/png:https://thealex.org.uk/wp-content/uploads/2025/08/Website-featured-images-Sold-Out-banners-2025-08-22T125209.342.png
END:VEVENT
BEGIN:VEVENT
DTSTART;TZID=Europe/London:20260124T083000
DTEND;TZID=Europe/London:20260124T150000
DTSTAMP:20260423T193030
CREATED:20221115T135657Z
LAST-MODIFIED:20260109T121241Z
UID:10000096-1769243400-1769266800@thealex.org.uk
SUMMARY:Pre Loved Market - Indoor Boot Fair
DESCRIPTION:Our large indoor boot fair is set to draw treasure seekers and bargain hunters from Faversham and beyond. \nThis is your perfect chance to hunt for unique finds\, all within the comfort of our historic building\, with free entry for the public. \nOur coffee shop will be open\, offering a variety of hot and cold drinks\, snacks\, and light bites to keep you refreshed as you browse. \nDoors will open at 8:30am—don’t miss out! \n\n\n\n\n\n\n\n\n\n\n\nTo Become a stallholder:\nBooking your spot at our Pre-Loved Market is now easier than ever with our new system! Secure your pitch online in just a few clicks and get ready to sell your second-hand treasures. Please follow the Book Now button. \nDoors open for stall holders at 7am
URL:https://thealex.org.uk/event/pre-loved-market-exclusive-indoor-boot-fair-2023-04-29-2023-09-23-2024-09-28-2025-09-27-2026-01-24/
LOCATION:The Alexander Centre\, 17 Preston Street\, Faversham\, Kent\, ME13 8NZ\, United Kingdom
CATEGORIES:Fairs & Markets
ATTACH;FMTTYPE=image/png:https://thealex.org.uk/wp-content/uploads/2022/11/Website-featured-images-2.png
END:VEVENT
END:VCALENDAR