BEGIN:VCALENDAR
VERSION:2.0
PRODID:-//The Alexander Centre - ECPv6.15.20//NONSGML v1.0//EN
CALSCALE:GREGORIAN
METHOD:PUBLISH
X-ORIGINAL-URL:https://thealex.org.uk
X-WR-CALDESC:Events for The Alexander Centre
REFRESH-INTERVAL;VALUE=DURATION:PT1H
X-Robots-Tag:noindex
X-PUBLISHED-TTL:PT1H
BEGIN:VTIMEZONE
TZID:Europe/London
BEGIN:DAYLIGHT
TZOFFSETFROM:+0000
TZOFFSETTO:+0100
TZNAME:BST
DTSTART:20260329T010000
END:DAYLIGHT
BEGIN:STANDARD
TZOFFSETFROM:+0100
TZOFFSETTO:+0000
TZNAME:GMT
DTSTART:20261025T010000
END:STANDARD
BEGIN:DAYLIGHT
TZOFFSETFROM:+0000
TZOFFSETTO:+0100
TZNAME:BST
DTSTART:20270328T010000
END:DAYLIGHT
BEGIN:STANDARD
TZOFFSETFROM:+0100
TZOFFSETTO:+0000
TZNAME:GMT
DTSTART:20271031T010000
END:STANDARD
BEGIN:DAYLIGHT
TZOFFSETFROM:+0000
TZOFFSETTO:+0100
TZNAME:BST
DTSTART:20280326T010000
END:DAYLIGHT
BEGIN:STANDARD
TZOFFSETFROM:+0100
TZOFFSETTO:+0000
TZNAME:GMT
DTSTART:20281029T010000
END:STANDARD
END:VTIMEZONE
BEGIN:VEVENT
DTSTART;TZID=Europe/London:20270116T193000
DTEND;TZID=Europe/London:20270116T193000
DTSTAMP:20260421T091816
CREATED:20250602T105024Z
LAST-MODIFIED:20260205T145246Z
UID:10000390-1800127800-1800127800@thealex.org.uk
SUMMARY:A Head Full Of Coldplay
DESCRIPTION:Important Notice: Fire at the Alexander Centre\nOn 31st December 2025\, a fire occurred at the rear of our Gatefield Hall\, The Alex’s main events space. Thankfully\, no one was in the venue and there were no injuries. This event has been rescheduled to 16th January 2027. If you hold a ticket for the original date\, this will remain valid for the new date. \nWe will be\, or may already have been\, in touch with all current ticket holders directly. If you have any questions\, please get in contact via email at bookings@thealex.org.uk or by phone on 01795 591691. \nTo read more about the fire and its effects please click HERE \n\nA Head Full of Coldplay deliver a fantastic show – the anthems\, the lasers and Xylobands\, make for a superb immersive show. A true celebration of the music! \nAbsolute classics like Yellow\, Hymn For The Weekend\, Magic\, Paradise and The Scientist all feature. Even Coldplay’s latest single\, Feels Like I’m Falling In Love\, makes the set list! \nDon’t miss this unique microcosm of a stadium show for all fans of Coldplay. \n“Brilliant musicians! Great Sound! Thank you so much.” – Sara Shipp\n“You guys were IMMENSE.” – Raptorneet\n“Last night was a great success\, band went down so well\, and the crowd were really into it\,” – Paul Dengel\, Livestock Events
URL:https://thealex.org.uk/event/a-head-full-of-coldplay/
LOCATION:The Alexander Centre\, 17 Preston Street\, Faversham\, Kent\, ME13 8NZ\, United Kingdom
CATEGORIES:Music
ATTACH;FMTTYPE=image/png:https://thealex.org.uk/wp-content/uploads/2025/06/Website-featured-images-Sold-Out-banners-2025-06-02T113128.467.png
END:VEVENT
BEGIN:VEVENT
DTSTART;TZID=Europe/London:20270213T193000
DTEND;TZID=Europe/London:20270213T213000
DTSTAMP:20260421T091816
CREATED:20240619T090216Z
LAST-MODIFIED:20260212T143015Z
UID:10000083-1802547000-1802554200@thealex.org.uk
SUMMARY:Si Cranstoun & His Band
DESCRIPTION:We’re delighted to welcome Si Cranstoun and his band back to Faversham for a special pre Valentine’s event! \nSI CRANSTOUN is a fabulous throwback to the old swing blues shouters of the 1940’s & 1950’s.\nA prolific bandleader and songwriter\, with dancefloor hits “Dynamo”  & “Coupe De Ville” and a chart hit “Kiss on the Lips” which have remained favourites on the vintage scene for over a decade.\nPeople have compared him to many old greats like Jackie Wilson and Wynonie Harris but Si remains his own man with his distinct voice and repertoire.\nSo with Si’s ‘ super happy ‘ charisma and stage presence everyone is guaranteed a joyful show tailored for their dancing feet and listening pleasure. \nThere will be an open dance area at the back of the hall – so you’ll have more room to strut your stuff! \nUnreserved theatre style seating at the front of the hall and reserved VIP Tables for 4 or 6 people are available as before.\nSee our seating plan for details.\nVIP Tables (Red) – Tickets @ £29.00\nUnreserved Theatre style seating (Orange) – £25.00
URL:https://thealex.org.uk/event/si-cranstoun-his-band/
LOCATION:The Alexander Centre\, 17 Preston Street\, Faversham\, Kent\, ME13 8NZ\, United Kingdom
CATEGORIES:Music
ATTACH;FMTTYPE=image/png:https://thealex.org.uk/wp-content/uploads/2024/06/si-cranstoun.png
END:VEVENT
BEGIN:VEVENT
DTSTART;TZID=Europe/London:20270214T170000
DTEND;TZID=Europe/London:20270214T193000
DTSTAMP:20260421T091816
CREATED:20251118T160004Z
LAST-MODIFIED:20260203T094157Z
UID:10000474-1802624400-1802633400@thealex.org.uk
SUMMARY:The Timeless Songs of Barbra Streisand
DESCRIPTION:The Timeless Songs of Barbra Streisand \nTop vocalist Sue Caroline presents The Timeless Songs of Barbra Streisand\, a stunning and captivating showcase of one of the most iconic singers of our time. \nThis spectacular show features a fantastic live band and includes songs from Barbra’s staggering career spanning seven decades with arrangements from her famous Timeless Concert Tour in the year 2000\, together with all her hit songs The Way We Were\, Evergreen\, People\, Guilty\, Woman in Love\, Don’t Rain on My Parade\, You Don’t Bring Me Flowers Somewhere and many more! \nThis dazzling show will take the audience on a musical journey through Barbra’s life and career\, cleverly intertwined with amusing stories and memories of Sue’s early career having been so inspired by Barbra as a young girl. \n‘Sue – such a voice channeling Barbra like 100% and the band sounded like a big band!’ Franka Strictzer – USA \n‘Amazing voice and stage presence – I enjoyed every number.’ \nFor anyone who likes Barbra Streisand\, you must go and see Sue’s show! She has the voice absolutely spot on and clearly loves the songs. All the massive Streisand ballads were included\, and Sue absolutely nailed those long powerful endings’ – Yellowstone Events Management \n 
URL:https://thealex.org.uk/event/the-timeless-songs-of-barbra-streisand-2/
LOCATION:The Alexander Centre\, 17 Preston Street\, Faversham\, Kent\, ME13 8NZ\, United Kingdom
CATEGORIES:Music
ATTACH;FMTTYPE=image/jpeg:https://thealex.org.uk/wp-content/uploads/2025/11/Website-featured-images-Sold-Out-banners-3.jpg
END:VEVENT
BEGIN:VEVENT
DTSTART;TZID=Europe/London:20270307T193000
DTEND;TZID=Europe/London:20270307T193000
DTSTAMP:20260421T091816
CREATED:20250801T145438Z
LAST-MODIFIED:20260205T145237Z
UID:10000241-1804447800-1804447800@thealex.org.uk
SUMMARY:The Irish House Party
DESCRIPTION:Important Notice: Fire at the Alexander Centre\nFollowing a fire in our main hall on New Year’s Eve\, the event has been rescheduled to Sunday\, 7 March 2027. \nWe apologise for any inconvenience caused and thank you for your understanding. \nTo read more about the fire and its effects\, please click HERE \n\nAt last\, an Irish music show that has come out of Ireland without the clichés that usually follow! There are no twee costumes or backing tracks here. Instead you get incredibly talented musicians and dancers who simply want to bring you the sound and fun of Ireland in an intimate and homely setting. \nThe live music\, Irish dancing and banter is infectious and enters the psyche in seconds. The show itself features All Ireland champion musicians and world champion dancers who combine a unique blend of light hearted audience interaction with fascinating stories about the music and the instruments themselves. \nThe original show was set up in Dublin by a group of musicians who wanted visitors to the city to experience what a real Irish house party is like. It’s all presented in a fun and humorous way resulting in a fabulous theatre going experience. \nDon’t miss the chance to experience a true taste of an Irish House Party live on the theatre stage! \n“Really enjoyed your performance tonight\, wonderful musicianship. An Maith!” Dara Ó Briain\n“Music\, culture\, warmth\, humour\, entertainment – This is Ireland! “ The Times\n“It was spectacular! It was one of those shows where the artists and audience found their vibe within seconds and it just went off!’” Tung Auditorium\, Liverpool
URL:https://thealex.org.uk/event/the-irish-house-party/
LOCATION:The Alexander Centre\, 17 Preston Street\, Faversham\, Kent\, ME13 8NZ\, United Kingdom
CATEGORIES:Music
ATTACH;FMTTYPE=image/png:https://thealex.org.uk/wp-content/uploads/2025/08/Website-featured-images-Sold-Out-banners-2025-08-01T152703.043.png
END:VEVENT
BEGIN:VEVENT
DTSTART;TZID=Europe/London:20270328T190000
DTEND;TZID=Europe/London:20270328T190000
DTSTAMP:20260421T091816
CREATED:20260210T095326Z
LAST-MODIFIED:20260210T104944Z
UID:10000554-1806260400-1806260400@thealex.org.uk
SUMMARY:Tom Meighan - The Voice Of Kasabian
DESCRIPTION:Tom Meighan – the original voice of Kasabian\nThe singer who fronted Kasabian through their biggest triumphs from 1997 to 2020 is hitting the road. \nWith eleven platinum records and five consecutive UK number one albums\, Meighan is a generational frontman headlining festivals\, storming the charts\, and commanding headlines across a defining era of British music. \nFollowing the release of a blistering new album in 2025 and a run of sold-out shows\, Tom now invites audiences to experience something more intimate and revealing. \nThese confessional evenings see him share his life stories — the highs\, the lows\, and the extraordinary years at the heart of Kasabian — alongside an acoustic performance accompanied by his guitarist. \nRaw\, honest\, and unfiltered\, this is a rare chance to hear the stories behind the songs. \nIt’ll be a wild ride and a show that true fans will not want to miss.
URL:https://thealex.org.uk/event/tom-meighan-the-voice-of-kasabian/
LOCATION:The Alexander Centre\, 17 Preston Street\, Faversham\, Kent\, ME13 8NZ\, United Kingdom
CATEGORIES:Music
ATTACH;FMTTYPE=image/png:https://thealex.org.uk/wp-content/uploads/2026/02/Website-featured-images-2-2.png
END:VEVENT
BEGIN:VEVENT
DTSTART;TZID=Europe/London:20270403T193000
DTEND;TZID=Europe/London:20270403T220000
DTSTAMP:20260421T091816
CREATED:20240716T151604Z
LAST-MODIFIED:20260112T151452Z
UID:10000259-1806780600-1806789600@thealex.org.uk
SUMMARY:The Beverley Big Band
DESCRIPTION:Founded by Jane Beverley in 1991 The Beverley Big Band have been performing throughout the region for 30 years. They are delighted to be returning to The Alexander Centre where they will be performing a selection of songs from The Great American Songbook together with tunes that make you wanna dance. \nWith Guest Vocalists Miss Laura May & Mr Steve Edwin. \nwww.beverleybigband.co.uk
URL:https://thealex.org.uk/event/an-evening-of-big-band-swing/
LOCATION:The Alexander Centre\, 17 Preston Street\, Faversham\, Kent\, ME13 8NZ\, United Kingdom
CATEGORIES:Music
ATTACH;FMTTYPE=image/jpeg:https://thealex.org.uk/wp-content/uploads/2024/07/The-Beverley-Big-Band-300DPI.jpg
END:VEVENT
BEGIN:VEVENT
DTSTART;TZID=Europe/London:20270423T193000
DTEND;TZID=Europe/London:20270423T193000
DTSTAMP:20260421T091816
CREATED:20250403T160754Z
LAST-MODIFIED:20260205T145146Z
UID:10000379-1808508600-1808508600@thealex.org.uk
SUMMARY:The West End Tenors
DESCRIPTION:Important Notice: Fire at the Alexander Centre\nFollowing a fire in our main hall on New Year’s Eve\, the event has been rescheduled to Friday\, 23 April 2027. \nWe apologise for any inconvenience caused and thank you for your understanding. \nTo read more about the fire and its effects\, please click HERE \n\nLeading men from London’s West End combine in a powerhouse of vocal talent. \nAfter selling out arenas across Europe\, The West End Tenors embark on their first UK Tour\, bringing their smash hit show directly to you! \nThe cast of The West End Tenors have starred in musicals such as Les Misérables\, The Phantom of the Opera\, Mamma Mia and Miss Saigon\, as well as performing at Windsor Castle for the Royal Family\, the BBC Proms and the Eurovision Song Contest. \nCelebrating the greatest triumphs of Musical Theatre & Film\, their spine-tingling vocals are not to be missed\, leaving audiences breathless from start to finish.
URL:https://thealex.org.uk/event/the-west-end-tenors/
LOCATION:The Alexander Centre\, 17 Preston Street\, Faversham\, Kent\, ME13 8NZ\, United Kingdom
CATEGORIES:Music
ATTACH;FMTTYPE=image/png:https://thealex.org.uk/wp-content/uploads/2025/04/Website-featured-images-Sold-Out-banners-2025-04-30T152447.294.png
END:VEVENT
BEGIN:VEVENT
DTSTART;TZID=Europe/London:20270507T200000
DTEND;TZID=Europe/London:20270507T223000
DTSTAMP:20260421T091816
CREATED:20251209T195130Z
LAST-MODIFIED:20260416T130557Z
UID:10000504-1809720000-1809729000@thealex.org.uk
SUMMARY:Bootleg Boss - Bruce Springsteen Tribute Band
DESCRIPTION:Bootleg Boss are a UK-based seven-piece band that perform the classic songs of Bruce Springsteen & The E Street Band. \nFormed in 2012\, this accomplished and exciting live band features Kev Jamieson as the vocal-singing\, guitar-playing\, harmonica-blowing\, band-leading\, audience-engaging\, dance-inducing\, singalong-inspiring Boss. \nIf you were born to run down backstreets\, across badlands\, and to go dancing in the dark in a brilliant disguise\, Bootleg Boss is the band you need to see.
URL:https://thealex.org.uk/event/bootleg-boss-bruce-springsteen-tribute-band/
LOCATION:The Alexander Centre\, 17 Preston Street\, Faversham\, Kent\, ME13 8NZ\, United Kingdom
CATEGORIES:Music
ATTACH;FMTTYPE=image/jpeg:https://thealex.org.uk/wp-content/uploads/2025/12/Website-featured-images-Sold-Out-banners-4.jpg
END:VEVENT
BEGIN:VEVENT
DTSTART;TZID=Europe/London:20270604T193000
DTEND;TZID=Europe/London:20270604T193000
DTSTAMP:20260421T091816
CREATED:20260210T103601Z
LAST-MODIFIED:20260210T105324Z
UID:10000555-1812137400-1812137400@thealex.org.uk
SUMMARY:In A Big Country – An Intimate Evening with Big Country Guitarist Bruce Watson
DESCRIPTION:In A Big Country\, an evening with Big Country founder Bruce Watson\nBig Country founder and guitarist\, Bruce Watson\, dominated the charts in the 1980s and has never looked back. \nAlongside singer Stuart Adamson\, Watson and co enjoyed hits on both sides of the Atlantic\, and became one of the biggest bands of the 1980s. \nTheir debut album\, The Crossing\, went platinum\, the follow-up\, Steeltown\, went to number one\, and Big Country continue to sell-out shows across the UK. \nGuitarist and mainstay Bruce Watson is hitting the road to revive classic hits like Fields Of Fire\, Wonderland\, Chance\, and Look Away\, while also reflecting on the band’s remarkable five decades in rock. \nWith reflections on Stuart Adamson and Live Aid\, the Grammies and Kate Bush\, The Jam and Pete Townsend\, Watson’s tour is not to be missed.
URL:https://thealex.org.uk/event/in-a-big-country-an-intimate-evening-with-big-country-guitarist-bruce-watson/
LOCATION:The Alexander Centre\, 17 Preston Street\, Faversham\, Kent\, ME13 8NZ\, United Kingdom
CATEGORIES:Music
ATTACH;FMTTYPE=image/png:https://thealex.org.uk/wp-content/uploads/2026/02/Website-featured-images-2-3.png
END:VEVENT
BEGIN:VEVENT
DTSTART;TZID=Europe/London:20270605T200000
DTEND;TZID=Europe/London:20270605T223000
DTSTAMP:20260421T091816
CREATED:20230706T095809Z
LAST-MODIFIED:20260205T145229Z
UID:10000137-1812225600-1812234600@thealex.org.uk
SUMMARY:Legends of Motown
DESCRIPTION:Important Notice: Fire at the Alexander Centre\nFollowing a fire in our main hall on New Year’s Eve\, the event has been rescheduled to Saturday\, 5th June 2027. \nWe apologise for any inconvenience caused and thank you for your understanding. \nTo read more about the fire and its effects\, please click HERE \n\nAfter two previous sell-out shows\, the Legends of Motown are back with a night of soulful classics and high-energy performances! \nLegends of Motown is a high energy tribute show jam packed with all of Motown’s biggest hits\, with stunning vocals and amazing live band\, celebrating the music of the iconic and timeless Motown era. Undoubtedly the golden era of music\, the show pays tribute to the legendary artists that appeared on the Motown label at that time. \nGet ready to be wowed with a song list that won’t fail to have you up and out of your seats and dancing in the aisles. Make it a night to remember with the music authentic to the Motown label from artists such as Marvin Gaye\, Stevie Wonder\, The Supremes\, Smokey Robinson\, The Four Tops\, Martha Reeves\, The Temptations\, Jackie Wilson and many more! \nPlease note: This is a standing event. \nA limited number of unreservable seats will be available on a first-come\, first-served basis. If you require a seat\, we recommend arriving early to avoid disappointment. \n\n \n 
URL:https://thealex.org.uk/event/legends-of-motown/
LOCATION:The Alexander Centre\, 17 Preston Street\, Faversham\, Kent\, ME13 8NZ\, United Kingdom
CATEGORIES:Music
ATTACH;FMTTYPE=image/png:https://thealex.org.uk/wp-content/uploads/2023/07/Website-featured-images-Sold-Out-banners-2024-10-09T140416.174.png
END:VEVENT
BEGIN:VEVENT
DTSTART;TZID=Europe/London:20270716T193000
DTEND;TZID=Europe/London:20270716T193000
DTSTAMP:20260421T091816
CREATED:20260227T094450Z
LAST-MODIFIED:20260227T094450Z
UID:10000573-1815766200-1815766200@thealex.org.uk
SUMMARY:The Counterfeit Sixties
DESCRIPTION:The Counterfeit Sixties make a welcome return with their brand new 60’s show for 2027. As Britain’s No.1 tribute show they bring alive the magic of the sixties\, with their tribute to over twenty five bands of that era. The show encompasses everything from that period\, from the clothes that were worn\, to flashbacks from television history\, including: TV programmes\, adverts and even clips from the original bands. \nThe Counterfeit Sixties presents a showcase of the great bands of this unforgettable time. The fantastic music of  The Beatles\, The Tremeloes\, The Small Faces\, Manfred Mann\, The Move\, The Who\, The Dave Clark Five\, The Kinks and The Monkees – to name but a few – all recreated in this stunning show. \nThe band members have performed their unique tribute shows all over the UK and abroad\, and have a wide range of experience in that field. The members of the band have individually worked with notable sixties’ artists such as The Searchers\, The Ivy League\, The Fortunes\, The Tremeloes and many more. \nJoin us for a night of sixties nostalgia!
URL:https://thealex.org.uk/event/the-counterfeit-sixties/
LOCATION:The Alexander Centre\, 17 Preston Street\, Faversham\, Kent\, ME13 8NZ\, United Kingdom
CATEGORIES:Music
ATTACH;FMTTYPE=image/png:https://thealex.org.uk/wp-content/uploads/2026/02/Website-featured-images-2-2-4.png
END:VEVENT
END:VCALENDAR