BEGIN:VCALENDAR
VERSION:2.0
PRODID:-//The Alexander Centre - ECPv6.15.20//NONSGML v1.0//EN
CALSCALE:GREGORIAN
METHOD:PUBLISH
X-WR-CALNAME:The Alexander Centre
X-ORIGINAL-URL:https://thealex.org.uk
X-WR-CALDESC:Events for The Alexander Centre
REFRESH-INTERVAL;VALUE=DURATION:PT1H
X-Robots-Tag:noindex
X-PUBLISHED-TTL:PT1H
BEGIN:VTIMEZONE
TZID:Europe/London
BEGIN:DAYLIGHT
TZOFFSETFROM:+0000
TZOFFSETTO:+0100
TZNAME:BST
DTSTART:20250330T010000
END:DAYLIGHT
BEGIN:STANDARD
TZOFFSETFROM:+0100
TZOFFSETTO:+0000
TZNAME:GMT
DTSTART:20251026T010000
END:STANDARD
BEGIN:DAYLIGHT
TZOFFSETFROM:+0000
TZOFFSETTO:+0100
TZNAME:BST
DTSTART:20260329T010000
END:DAYLIGHT
BEGIN:STANDARD
TZOFFSETFROM:+0100
TZOFFSETTO:+0000
TZNAME:GMT
DTSTART:20261025T010000
END:STANDARD
BEGIN:DAYLIGHT
TZOFFSETFROM:+0000
TZOFFSETTO:+0100
TZNAME:BST
DTSTART:20270328T010000
END:DAYLIGHT
BEGIN:STANDARD
TZOFFSETFROM:+0100
TZOFFSETTO:+0000
TZNAME:GMT
DTSTART:20271031T010000
END:STANDARD
END:VTIMEZONE
BEGIN:VEVENT
DTSTART;TZID=Europe/London:20260911T193000
DTEND;TZID=Europe/London:20260911T220000
DTSTAMP:20260423T093730
CREATED:20260303T103344Z
LAST-MODIFIED:20260422T075954Z
UID:10000553-1789155000-1789164000@thealex.org.uk
SUMMARY:Drag Bingo with Delilah Tickles and Anita Wee | Faversham Assembly Rooms
DESCRIPTION:We’re delighted to announce that Drag Bingo with Delilah Tickles and Anita Wee has been relocated from The Alex Bar to Faversham Assembly Rooms following the success of our April event\, allowing us to accommodate more guests! Faversham Assembly Rooms\, Between\, 63–64 Preston St\, Faversham ME13 8PG. \n\nDrag Bingo with Delilah Tickles and Anita Wee \nIn support of the Mayor of Swale’s Charities (Sateda & Cancer Research UK) \n\nWe’re expecting a Full House of fun as we welcome the infamous Delilah Tickles & Anita Wee to host our first evening of Drag Bingo! \nEyes Down for a Full House as you take part in four fabulous games of bingo – all presented with a smattering of humour in the best possible taste! There’s prizes to be won\, and our bar will be open. \nDress to impress – bring on the glitz and glamour – a prize is awarded for the best-dressed Queen! \nThere will also be a raffle. \nPre-book a grazing plate to provide a delicious plate of nibbles to soak up the alcohol!  A plate of snacks including cold meats\, cheese\, crackers and pickles. \nThis is a fundraising event for the Mayor of Swale’s Charities Cancer Research UK and Sateda. \n \n 
URL:https://thealex.org.uk/event/drag-bingo-with-delilah-tickles-and-anita-wee-2/
LOCATION:The Alexander Centre\, 17 Preston Street\, Faversham\, Kent\, ME13 8NZ\, United Kingdom
CATEGORIES:Comedy,Dance
ATTACH;FMTTYPE=image/png:https://thealex.org.uk/wp-content/uploads/2025/10/Website-featured-images-Sold-Out-banners-2025-11-06T134739.051.png
END:VEVENT
END:VCALENDAR