BEGIN:VCALENDAR
VERSION:2.0
PRODID:-//The Alexander Centre - ECPv6.15.20//NONSGML v1.0//EN
CALSCALE:GREGORIAN
METHOD:PUBLISH
X-WR-CALNAME:The Alexander Centre
X-ORIGINAL-URL:https://thealex.org.uk
X-WR-CALDESC:Events for The Alexander Centre
REFRESH-INTERVAL;VALUE=DURATION:PT1H
X-Robots-Tag:noindex
X-PUBLISHED-TTL:PT1H
BEGIN:VTIMEZONE
TZID:Europe/London
BEGIN:DAYLIGHT
TZOFFSETFROM:+0000
TZOFFSETTO:+0100
TZNAME:BST
DTSTART:20250330T010000
END:DAYLIGHT
BEGIN:STANDARD
TZOFFSETFROM:+0100
TZOFFSETTO:+0000
TZNAME:GMT
DTSTART:20251026T010000
END:STANDARD
BEGIN:DAYLIGHT
TZOFFSETFROM:+0000
TZOFFSETTO:+0100
TZNAME:BST
DTSTART:20260329T010000
END:DAYLIGHT
BEGIN:STANDARD
TZOFFSETFROM:+0100
TZOFFSETTO:+0000
TZNAME:GMT
DTSTART:20261025T010000
END:STANDARD
BEGIN:DAYLIGHT
TZOFFSETFROM:+0000
TZOFFSETTO:+0100
TZNAME:BST
DTSTART:20270328T010000
END:DAYLIGHT
BEGIN:STANDARD
TZOFFSETFROM:+0100
TZOFFSETTO:+0000
TZNAME:GMT
DTSTART:20271031T010000
END:STANDARD
END:VTIMEZONE
BEGIN:VEVENT
DTSTART;TZID=Europe/London:20260307T193000
DTEND;TZID=Europe/London:20260307T193000
DTSTAMP:20260423T093801
CREATED:20251202T141347Z
LAST-MODIFIED:20260303T143134Z
UID:10000498-1772911800-1772911800@thealex.org.uk
SUMMARY:Disco Party Bingo - The Faversham Assembly Rooms
DESCRIPTION:Important Notice: Fire at the Alexander Centre\nThis event was originally scheduled to take place at the Alexander Centre\, Faversham. Following a fire on New Year’s Eve\, this venue is currently out of action and the event has therefore been relocated to The Faversham Assembly Rooms\, Preston Street\, Faversham\, Kent\, ME13 8PG. \nFor venue-related enquiries (including access\, accessibility\, and parking)\, please contact The Faversham Assembly Rooms on 01795 503286. \nFor a location map for The Faversham Assembly Rooms\, please click HERE \nWe apologise for any inconvenience caused and thank you for your understanding. \nTo read more about the fire and its effects\, please click HERE \n\n🎶 A night of the biggest party tunes from across six decades\, alongside our fantastic games and competitions.  Including our very own Disco Party Bingo!  Ditch the numbers and mark off the iconic anthems from your Disco Party Bingo game card and party your way to Big Cash Prizes! \nYour ticket includes 3 rounds of Disco Party Bingo!! \nAdditional pay to play games available on the night. \nParty through from when the doors open til late with DJ Garlick. \nUseful Info\nPlease allow 3.5 hours for all games to be played.\nArrive early to get the best seats. Groups of 8+ please email info@discopartybingo.com to reserve seats.\nAll drinks\, alcoholic and non-alcoholic\, will be served by the venue. Please drink responsibly.Tickets are non-refundable unless the event is cancelled or postponed. \n🔞 18+ only. Photo ID will be required to claim any prize. \nThe venue operates a challenge 25 policy.
URL:https://thealex.org.uk/event/disco-party-bingo-spring-2025-06-21-2025-09-06-2025-12-06-2025-12-07-2/
LOCATION:The Alexander Centre\, 17 Preston Street\, Faversham\, Kent\, ME13 8NZ\, United Kingdom
CATEGORIES:Dance,Music
ATTACH;FMTTYPE=image/png:https://thealex.org.uk/wp-content/uploads/2024/12/Website-featured-images-Sold-Out-banners-2025-05-22T105916.468.png
END:VEVENT
END:VCALENDAR